BEGIN:VCALENDAR
VERSION:2.0
PRODID:-//ChamberMaster//Event Calendar 2.0//EN
METHOD:PUBLISH
X-PUBLISHED-TTL:P3D
REFRESH-INTERVAL:P3D
CALSCALE:GREGORIAN
BEGIN:VEVENT
DTSTART:20150710T150000Z
DTEND:20150710T230000Z
X-MICROSOFT-CDO-ALLDAYEVENT:FALSE
SUMMARY:12th Annual Rotary Benefit Golf Tournament
DESCRIPTION:Kearney's two Rotary Clubs take pride in hosting the 12th Annual Rotary Benefit Golf Tournament and Awards Reception. The fundraising event has become a cornerstone in continuing the 110 year tradition of all Rotary Clubs providing Local\, Regional\, State\, National\, and International support.\n\n\n\nIn Kearney\, our clubs have provided hundreds of thousands of dollars over the years for numerous beneficiaries\, including Crossroads Mission\, Cottonmill Recreation Park\, Yanney Memorial Park\, The Safe Center\, Kearney Public Schools\, The Nebraska Firefighter's Museum & Education Center\, the Children's Museum and MONA\, just to mention a few. We invite you to become a player or sponsor in continuing the success through your participation!
X-ALT-DESC;FMTTYPE=text/html:Kearney&#39\;s two Rotary Clubs take pride in hosting the 12th Annual Rotary Benefit Golf Tournament and Awards Reception. The fundraising event has become a cornerstone in continuing the 110 year tradition of all Rotary Clubs providing Local\, Regional\, State\, National\, and International support.<br />\n<br />\nIn Kearney\, our clubs have provided hundreds of thousands of dollars over the years for numerous beneficiaries\, including Crossroads Mission\, Cottonmill Recreation Park\, Yanney Memorial Park\, The Safe Center\, Kearney Public Schools\, The Nebraska Firefighter&#39\;s Museum &amp\; Education Center\, the Children&#39\;s Museum and MONA\, just to mention a few. We invite you to become a player or sponsor in continuing the success through your participation!
LOCATION:Meadowlark Hills Golf Course 3300 30th Ave
UID:e.1404.6457
SEQUENCE:3
DTSTAMP:20260422T133027Z
URL:https://members.kearneycoc.org/events/details/12th-annual-rotary-benefit-golf-tournament-07-10-2015-6457
END:VEVENT

END:VCALENDAR
