BEGIN:VCALENDAR
VERSION:2.0
PRODID:-//ChamberMaster//Event Calendar 2.0//EN
METHOD:PUBLISH
X-PUBLISHED-TTL:P3D
REFRESH-INTERVAL:P3D
CALSCALE:GREGORIAN
BEGIN:VEVENT
DTSTART:20220212T234500Z
DTEND:20220213T033000Z
X-MICROSOFT-CDO-ALLDAYEVENT:FALSE
SUMMARY:15th Annual Treasure Chest Fundraiser
DESCRIPTION:The community is invited to attend the 15th Annual Treasure Chest Fundraiser for the Kearney Area Children's Museum held on Saturday\, February 12\, 2022 from 5:45 p.m. to 9:30 p.m. at the Younes Conference Center\, 416 W Talmadge Rd\, Kearney.   \n\n"What a special time to help raise funds for a great cause while also enjoying an evening with friends\," said Kearney Area Children's Museum Executive Director Traci Winscot. "Over the years since making it a casual night with a Casino Night theme\, we've doubled our attendance so we are continuing it again this upcoming year since the guests had a great time. All proceeds from the event will benefit the Kearney Area Children's Museum and its annual operations\, including educational programming\, exhibit maintenance\, and community outreach efforts."\n\n\n\nThe annual Treasure Chest event has a huge impact on our ability to continue to serve this great community.  Join us in a fun filled evening to help KACM continue to provide fun and educational exhibits\, activities and events in the future.\n\n\n\nThe museum is excited to offer another Casino Night that includes a variety of games and opportunities for individuals to help support the museum. A silent auction\, delicious supper\, and cash bar are also included in the evening's events.\n\n\n\n "We will have an assortment of amazing silent auction items\, ranging from night-out packages\, to a painting party\, to restaurant passes." Winscot said. "What a special opportunity to support a great mission and also purchase amazing gifts!"\n\n\n\nGuests can purchase tickets for $60 each or purchase a table of ten for $550.\n\n\n\nTickets can be purchased at the museum or online at https://sales.kearneychildrensmuseum.org/benefit.aspx by February 5th.
X-ALT-DESC;FMTTYPE=text/html:<span style="color:black">The community is invited to attend the 15<sup>th</sup> Annual Treasure Chest Fundraiser for the Kearney Area Children&rsquo\;s Museum held on Saturday\, February 12\, 2022 from 5:45 p.m. to 9:30 p.m. at the Younes Conference Center\, 416 W Talmadge Rd\, Kearney. &nbsp\;&nbsp\;</span><br />\n<span style="color:black">&ldquo\;What a special time to help raise funds for a great cause while also enjoying an evening with friends\,&rdquo\; said Kearney Area Children&rsquo\;s Museum Executive Director Traci Winscot. &ldquo\;Over the years since making it a casual night with a Casino Night theme\, we&#39\;ve doubled our attendance so we are continuing it again this upcoming year since the guests had a great time. All proceeds from the event will benefit the Kearney Area Children&#39\;s Museum and its annual operations\, including educational programming\, exhibit maintenance\, and community outreach efforts.&rdquo\;</span><br />\n<br />\n<span style="color:black">The annual Treasure Chest event has a huge impact on our ability to continue to serve this great community.&nbsp\; Join us in a fun filled evening to help KACM continue to provide fun and educational exhibits\, activities and events in the future.</span><br />\n<br />\n<span style="color:black">The museum is excited to offer another Casino Night that includes a variety of games and opportunities for individuals to help support the museum. A silent auction\, delicious supper\, and cash bar are also included in the evening&rsquo\;s events.</span><br />\n<br />\n<span style="color:black">&nbsp\;&ldquo\;We will have an assortment of amazing silent auction items\, ranging from night-out packages\, to a painting party\, to restaurant passes.&rdquo\; Winscot said. &ldquo\;What a special opportunity to support a great mission and also purchase amazing gifts!&rdquo\;</span><br />\n<br />\n<span style="color:black">Guests can purchase tickets for $60 each or purchase a table of ten for $550.</span><br />\n<br />\n<span style="color:black">Tickets can be purchased at the museum or online at </span>https://sales.kearneychildrensmuseum.org/benefit.aspx by February 5th.<br />\n&nbsp\;
LOCATION:Younes Conference Center\, 416 W Talmadge Rd\, Kearney
UID:e.1404.19437
SEQUENCE:3
DTSTAMP:20260423T163754Z
URL:https://members.kearneycoc.org/events/details/15th-annual-treasure-chest-fundraiser-19437
END:VEVENT

END:VCALENDAR
