BEGIN:VCALENDAR
VERSION:2.0
PRODID:-//ChamberMaster//Event Calendar 2.0//EN
METHOD:PUBLISH
X-PUBLISHED-TTL:P3D
REFRESH-INTERVAL:P3D
CALSCALE:GREGORIAN
BEGIN:VEVENT
DTSTART:20260411T140000Z
DTEND:20260411T170000Z
X-MICROSOFT-CDO-ALLDAYEVENT:FALSE
SUMMARY:16th Annual Race for GRACE
DESCRIPTION:Be part of the 16th Annual Race for GRACE\, a powerful day that brings our community together in support of local cancer patients and their families. Filled with hope\, resilience\, and purpose\, this is a day you won't want to miss.
X-ALT-DESC;FMTTYPE=text/html:Be part of the 16th Annual Race for GRACE\, a powerful day that brings our community together in support of local cancer patients and their families. Filled with hope\, resilience\, and purpose\, this is a day you won&rsquo\;t want to miss.
LOCATION:College Park in Grand Island
UID:e.1404.26183
SEQUENCE:3
DTSTAMP:20260425T224348Z
URL:https://members.kearneycoc.org/events/details/16th-annual-race-for-grace-26183
END:VEVENT

END:VCALENDAR
