BEGIN:VCALENDAR
VERSION:2.0
PRODID:-//ChamberMaster//Event Calendar 2.0//EN
METHOD:PUBLISH
X-PUBLISHED-TTL:P3D
REFRESH-INTERVAL:P3D
CALSCALE:GREGORIAN
BEGIN:VEVENT
DTSTART;VALUE=DATE:20210821
DTEND;VALUE=DATE:20210822
TRANSP:TRANSPARENT
X-MICROSOFT-CDO-ALLDAYEVENT:TRUE
SUMMARY:19th Annual Make-A-Wish Roll N Ride
DESCRIPTION:The Roll-N-Ride is a poker run that Kearney Powersports hosts each year to benefit the Make-A-Wish foundation. This year will be the 19th annual event\, held August 21st. The event has grown nearly every year   in 2019 we had over 200 bikes and roughly 300 participants.  Each participant pays a registration fee and is given a door prize as they register.  The door prizes range from a top-of-the-line leather jacket or helmet to a key chain and are all donated from our vendors and community members. The participants leave from Kearney Powersports and make 4 stops along a specified route of around 140-160 miles.   At each stop they pick up a copy of a primary sponsor's business card.  A primary sponsor is a sponsor who has donated at least $500.  The 5th stop is Kearney Powersports where they roll the dice 5 times.  The rolls are added together and the high and low rolls are awarded $100 Kearney Powersports gift cards.  We also sell raffle tickets for approximately 8 prizes and take donations for Make-A-Wish over the counter.  In 2019 the net proceeds for the foundation were $10\,500!  We are planning on around 400 participants this year.
X-ALT-DESC;FMTTYPE=text/html:<span style="font-family:comic sans ms"><span style="font-size:10.0pt">The Roll-N-Ride is a poker run that Kearney Powersports hosts each year to benefit the Make-A-Wish foundation. This year will be the <strong>19<sup>th</sup> annual event</strong>\, held <span style="font-size:16px"><strong>August 21st</strong></span>. The event has grown nearly every year &ndash\; in 2019 we had over 200 bikes and roughly 300 participants.&nbsp\; Each participant pays a registration fee and is given a door prize as they register.&nbsp\; The door prizes range from a top-of-the-line leather jacket or helmet to a key chain and are all donated from our vendors and community members. The participants leave from Kearney Powersports and make 4 stops along a specified route of around 140-160 miles.&nbsp\;&nbsp\; At each stop they pick up a copy of a primary sponsor&rsquo\;s business card.&nbsp\; A primary sponsor is a sponsor who has donated at least $500.&nbsp\; The 5<sup>th</sup> stop is Kearney Powersports where they roll the dice 5 times.&nbsp\; The rolls are added together and the high and low rolls are awarded $100 Kearney Powersports gift cards.&nbsp\; We also sell raffle tickets for approximately 8 prizes and take donations for Make-A-Wish over the counter.&nbsp\; In 2019 the net proceeds for the foundation were $10\,500!&nbsp\; We are planning on around 400 participants this year.</span></span>
LOCATION:Kearney Powersports 511 2nd Ave South Kearney\, NE 68847
UID:e.1404.19361
SEQUENCE:3
DTSTAMP:20260424T020653Z
URL:https://members.kearneycoc.org/events/details/19th-annual-make-a-wish-roll-n-ride-19361
END:VEVENT

END:VCALENDAR
