BEGIN:VCALENDAR
VERSION:2.0
PRODID:-//ChamberMaster//Event Calendar 2.0//EN
METHOD:PUBLISH
X-PUBLISHED-TTL:P3D
REFRESH-INTERVAL:P3D
CALSCALE:GREGORIAN
BEGIN:VEVENT
DTSTART:20160220T180000Z
DTEND:20160221T000000Z
X-MICROSOFT-CDO-ALLDAYEVENT:FALSE
SUMMARY:1st Annual JA Bowl a Thon
DESCRIPTION:If a fun outing with friends and co-workers sounds good\, then a fun outing with friends and co-workers to benefit an amazing cause in your community might just be the best news ever!\n\n \n\nWe hope you'll consider joining us for the first annual Junior Achievement of Kearney Bowl-A-Thon? All the action takes place on Saturday\, February 20th at Big Apple Fun Center\, and sign-ups are going on now!
X-ALT-DESC;FMTTYPE=text/html:<span style="font-family:arial\,sans-serif\;"><span style="font-size:10pt\;">If a fun outing with friends and co-workers sounds good\, then a fun outing with friends and co-workers to benefit an amazing cause in your community might just be the best news ever!</span></span><br />\n&nbsp\;<br />\n<span style="font-family:arial\,sans-serif\;"><span style="font-size:10pt\;">We hope you&#39\;ll consider joining us for the first annual&nbsp\;<strong><a alt="http://jalincoln.org/district-of-kearney/?utm_source=Kearney+Bowl-A-Thon+&amp\;utm_campaign=Kearney+Bowl-A-Thon&amp\;utm_medium=email" href="http://r20.rs6.net/tn.jsp?f=001tPNr42B1SHpKmoXKroy1Xk-7RO54wgjzgq4Gm_BuBWIxcBF3aMyQPONkor5soXyggebmKeezIdEqHsCFamzQ1EtnZH9U74QUhI2BIVjyzjq9p1wrYH_fhF0DBOFaqSDqpTtX1a7JKy0u0vI-2MbnViy89fMyG6BuabFNwZRJ-RjSbkyTVDYaS_ScWO0SfomCne7g_zsjsCXJQx_7IcpVD4K19ef5GvGkH4vi0iNrMQ3VoN_H_ilG-w02HECylEyD1Xts1KKkuUlMk1RVK-3LyClT38ibbR_9IWUkEOH2lmsBCjme73l6msziCWKDeHEq6C3h5mIoWAA=&amp\;c=q-NB-6bghn6xxB_eYNOWfQMXFYkHHTardtAvwNiJEZ8VrF0d8euxaA==&amp\;ch=KlZPIzNtnqke8rmtziNnzZ4O0E_L_TAFX-fE0N5f09ojCX5bK2q7Mg==" linktype="1" shape="rect" target="_blank" track="on"><span style="color:#008457\;">Junior Achievement of Kearney Bowl-A-Thon</span></a></strong>? All the action takes place on</span></span><strong><span style="font-family:arial\,sans-serif\;"><span style="font-size:11pt\;">&nbsp\;Saturday\, February 20th</span></span></strong><span style="font-family:arial\,sans-serif\;"><span style="font-size:10pt\;"> at Big Apple Fun Center\, and&nbsp\;sign-ups are going on now!&nbsp\;</span></span>
LOCATION:Big Apple Fun Center 500 W 4th St.
UID:e.1404.7517
SEQUENCE:3
DTSTAMP:20260422T012117Z
URL:https://members.kearneycoc.org/events/details/1st-annual-ja-bowl-a-thon-02-20-2016-7517
END:VEVENT

END:VCALENDAR
