BEGIN:VCALENDAR
VERSION:2.0
PRODID:-//ChamberMaster//Event Calendar 2.0//EN
METHOD:PUBLISH
X-PUBLISHED-TTL:P3D
REFRESH-INTERVAL:P3D
CALSCALE:GREGORIAN
BEGIN:VEVENT
DTSTART:20140919T163000Z
DTEND:20140919T180000Z
X-MICROSOFT-CDO-ALLDAYEVENT:FALSE
SUMMARY:2014 UNK Homecoming Alumni Awards Luncheon
DESCRIPTION:The University sits at the core of our great community\, and with one in eight Kearney residents having at least one degree from UNK\, the impact of alumni on our area is profound.  It's important to recognize those who've shined brightly as they've represented UNK and Kearney.  \n\n \n\nSuch an opportunity is upon us.  I'd like to invite you to the 2014 UNK Homecoming Alumni Awards Luncheon at 11:30 a.m. on Friday\, September 19th in the Ponderosa Room at UNK's Nebraskan Student Union.  This is a new event!  For over 30 years\, we have honored our recipients in conjunction with the Loper Athletic Hall of Fame inductions.
X-ALT-DESC;FMTTYPE=text/html:<span style="font-size:12.0pt\;">The University sits at the core of our great community\, and with one in eight Kearney residents having at least one degree from UNK\, the impact of alumni on our area is profound.&nbsp\; It&rsquo\;s important to recognize those who&rsquo\;ve shined brightly as they&rsquo\;ve represented UNK and Kearney.&nbsp\; </span><br />\n&nbsp\;<br />\n<span style="font-size:12.0pt\;">Such an opportunity is upon us.&nbsp\; I&rsquo\;d like to invite you to the <strong>2014 UNK Homecoming Alumni Awards Luncheon at 11:30 a.m. on Friday\, September 19<sup>th</sup> </strong>in the Ponderosa Room at UNK&rsquo\;s Nebraskan Student Union.&nbsp\; This is a new event!&nbsp\; For over 30 years\, we have honored our recipients in conjunction with the Loper Athletic Hall of Fame inductions.&nbsp\; &nbsp\;&nbsp\;</span><br />\n&nbsp\;
LOCATION:Ponderosa Room at UNK's Nebraskan Student Union
UID:e.1404.5323
SEQUENCE:3
DTSTAMP:20260423T065846Z
URL:https://members.kearneycoc.org/events/details/2014-unk-homecoming-alumni-awards-luncheon-09-19-2014-5323
END:VEVENT

END:VCALENDAR
