BEGIN:VCALENDAR
VERSION:2.0
PRODID:-//ChamberMaster//Event Calendar 2.0//EN
METHOD:PUBLISH
X-PUBLISHED-TTL:P3D
REFRESH-INTERVAL:P3D
CALSCALE:GREGORIAN
BEGIN:VEVENT
DTSTART:20161008T173000Z
DTEND:20161008T220000Z
X-MICROSOFT-CDO-ALLDAYEVENT:FALSE
SUMMARY:2016 Mystery Foods Event
DESCRIPTION:2016 Mystery Foods Event Saturday\, October 8\, 2016 Check-In: 12:30pm Registration Deadline: September 28 Entry Fee: $20.00 per team Each division limited to ten teams of 2-4 members: Division 1: 10 14 year olds Division 2: 15 18 year olds The Nebraska Mystery Foods Event is a competitive food preparation event for youth that highlights Nebraska grown foods.    Each team of 2-4 members must use only the basket of provided food\, plus a "mystery" ingredient revealed just before the event    Each team will make a short presentation to the judges explaining their entree    Awards will be given for Best Use of Mystery Ingredient\, Best Appearance of Dish\, and Best Oral Presentation
X-ALT-DESC;FMTTYPE=text/html:2016 Mystery Foods Event Saturday\, October 8\, 2016 Check-In: 12:30pm Registration Deadline: September 28 Entry Fee: $20.00 per team Each division limited to ten teams of 2-4 members: Division 1: 10&mdash\;14 year olds Division 2: 15&mdash\;18 year olds The Nebraska Mystery Foods Event is a competitive food preparation event for youth that highlights Nebraska grown foods. &brvbar\;&brvbar\; Each team of 2-4 members must use only the basket of provided food\, plus a &ldquo\;mystery&rdquo\; ingredient revealed just before the event &brvbar\;&brvbar\; Each team will make a short presentation to the judges explaining their entree &brvbar\;&brvbar\; Awards will be given for Best Use of Mystery Ingredient\, Best Appearance of Dish\, and Best Oral Presentation
LOCATION:Raising Nebraska Nebraska State Fairgrounds Nebraska Building Grand Island\, NE
UID:e.1404.9054
SEQUENCE:3
DTSTAMP:20260421T122727Z
URL:https://members.kearneycoc.org/events/details/2016-mystery-foods-event-9054
END:VEVENT

END:VCALENDAR
