BEGIN:VCALENDAR
VERSION:2.0
PRODID:-//ChamberMaster//Event Calendar 2.0//EN
METHOD:PUBLISH
X-PUBLISHED-TTL:P3D
REFRESH-INTERVAL:P3D
CALSCALE:GREGORIAN
BEGIN:VEVENT
DTSTART:20201105T150000Z
DTEND:20201105T160000Z
X-MICROSOFT-CDO-ALLDAYEVENT:FALSE
SUMMARY:2020 National Disability Employment Awareness Month Event
DESCRIPTION:Learn how to build an inclusive workforce. This NDEAM Event will gain an understanding of workplace inclusion and disability etiquette\, discuss talking about disabilities in an interview and reasonable accommodations. Nebraska VR staff members will be available to answer your questions and provide businesses with access to an untapped resource of qualified applicants\, support services after the hire\, information about assistive technology\, and accommodations to keep existing employees on the job. Registration required for the Zoom training: https://forms.gle/srui6hvnsKGkUVBh7
X-ALT-DESC;FMTTYPE=text/html:Learn how to build an inclusive workforce. This NDEAM Event will gain an understanding of workplace inclusion and disability etiquette\, discuss talking about disabilities in an interview and reasonable accommodations. Nebraska VR staff members will be available to answer your questions and provide businesses with access to an untapped resource of qualified applicants\, support services after the hire\, information about assistive technology\, and accommodations to keep existing employees on the job. Registration required for the Zoom training: https://forms.gle/srui6hvnsKGkUVBh7
LOCATION:Zoom Event
UID:e.1404.18766
SEQUENCE:3
DTSTAMP:20260424T192159Z
URL:https://members.kearneycoc.org/events/details/2020-national-disability-employment-awareness-month-event-18766
END:VEVENT

END:VCALENDAR
