BEGIN:VCALENDAR
VERSION:2.0
PRODID:-//ChamberMaster//Event Calendar 2.0//EN
METHOD:PUBLISH
X-PUBLISHED-TTL:P3D
REFRESH-INTERVAL:P3D
CALSCALE:GREGORIAN
BEGIN:VEVENT
DTSTART:20131115T010000Z
DTEND:20131115T040000Z
X-MICROSOFT-CDO-ALLDAYEVENT:FALSE
SUMMARY:2nd Annual Ladies Night Out Fall Fashion Show
DESCRIPTION:Fashion Show\, door prizes\, silent auction items\, desserts\, cash bar\, DJ music
X-ALT-DESC;FMTTYPE=text/html:Fashion Show\, door prizes\, silent auction items\, desserts\, cash bar\, DJ music
LOCATION:Ramada Inn 301 Second Ave
UID:e.1404.3367
SEQUENCE:3
DTSTAMP:20260423T231609Z
URL:https://members.kearneycoc.org/events/details/2nd-annual-ladies-night-out-fall-fashion-show-11-14-2013-3367
END:VEVENT

END:VCALENDAR
