BEGIN:VCALENDAR
VERSION:2.0
PRODID:-//ChamberMaster//Event Calendar 2.0//EN
METHOD:PUBLISH
X-PUBLISHED-TTL:P3D
REFRESH-INTERVAL:P3D
CALSCALE:GREGORIAN
BEGIN:VEVENT
DTSTART:20140503T150000Z
DTEND:20140503T190000Z
X-MICROSOFT-CDO-ALLDAYEVENT:FALSE
SUMMARY:2nd Annual Stuff the Truck
DESCRIPTION:The Young Professionals Network is once again going to "Stuff The Truck"! This Saturday we will be at Family Fresh Market and Tractor Supply in Kearney from 10-2 collecting shelter supplies to stuff the truck. Last year YPN collected enough canned pet food to keep Kearney Area Animal Shelter stocked for over a year! They received so much canned food that the shelter still has a huge stock-pile! The shelter needs to use it up before it expires so they are asking for any other shelter supplies this year! The Animal Shelter is  also having a free-will donation dog wash at Family Fresh Market so bring your four-legged friend!
X-ALT-DESC;FMTTYPE=text/html:<span style="color: rgb(20\, 24\, 35)\; font-family: Helvetica\, Arial\, 'lucida grande'\, tahoma\, verdana\, arial\, sans-serif\; font-size: 14px\; line-height: 17.920000076293945px\;">The Young Professionals Network is once again going to &quot\;Stuff The Truck&quot\;! This Saturday we will be at Family Fresh Market and Tractor Supply in Kearney from 10-2 collecting shelter supplies to stuff the truck. Last year YPN collected enough canned pet food to keep Kearney Area Animal Shelter stocked for over a year! They received so much canned food that the shelter still has a huge stock-pile! The shelter needs to use it up before it expires so they are asking for any other shelter supplies this year! The Animal Shelter is &nbsp\;also having a free-will donation dog wash at Family Fresh Market so bring your four-legged friend!</span>
LOCATION:Tractor Supply Company & Family Fresh Market
UID:e.1404.4699
SEQUENCE:3
DTSTAMP:20260423T132948Z
URL:https://members.kearneycoc.org/events/details/2nd-annual-stuff-the-truck-05-03-2014-4699
END:VEVENT

END:VCALENDAR
