BEGIN:VCALENDAR
VERSION:2.0
PRODID:-//ChamberMaster//Event Calendar 2.0//EN
METHOD:PUBLISH
X-PUBLISHED-TTL:P3D
REFRESH-INTERVAL:P3D
CALSCALE:GREGORIAN
BEGIN:VEVENT
DTSTART:20121002T170000Z
DTEND:20121004T050000Z
X-MICROSOFT-CDO-ALLDAYEVENT:FALSE
SUMMARY:30 Hour Shirt Sale
DESCRIPTION:This week KearneyBars.com just had a new sponsor sing up for our website\, it's ShirtSayings.net.\n\n	For their first week as a sponsor with us\, this Kearney Nebraska owned and operated business is giving its new and existing fans a 30 hour sale to celebrate being open to the world for 30 days!\n\n	Every shirt on their website (https://www.ShirtSayings.net/shop) is $5/off With FREE Shipping\, if you grab their coupon code. The coupon will be available at: https://www.shirtsayings.net/updates/5-off-every-shirt-for-30-hours/ only on Tuesday.
X-ALT-DESC;FMTTYPE=text/html:<p>\n	This week KearneyBars.com just had a new sponsor sing up for our website\, it&#39\;s ShirtSayings.net.</p>\n<p>\n	For their first week as a sponsor with us\, this Kearney Nebraska owned and operated business is giving its new and existing fans a 30 hour sale to celebrate being open to the world for 30 days!</p>\n<p>\n	Every shirt on their website (https://www.ShirtSayings.net/shop) is $5/off With FREE Shipping\, if you grab their coupon code.&nbsp\;The coupon will be available at:&nbsp\;<span id="editable-post-name" style="background-color: rgb(255\, 251\, 204)\; color: rgb(102\, 102\, 102)\; font-family: sans-serif\; line-height: 16.78333282470703px\; " title="Temporary permalink. Click to edit this part.">https://www.shirtsayings.net/updates/5-off-every-shirt-for-30-hours</span><span style="color: rgb(102\, 102\, 102)\; font-family: sans-serif\; line-height: 16.78333282470703px\; ">/ only on Tuesday.</span></p>\n
LOCATION:https://www.shirtsayings.net/updates/5-off-every-shirt-for-30-hours/
UID:e.1404.2195
SEQUENCE:3
DTSTAMP:20260425T002430Z
URL:https://members.kearneycoc.org/events/details/30-hour-shirt-sale-10-02-2012-2195
END:VEVENT

END:VCALENDAR
