BEGIN:VCALENDAR
VERSION:2.0
PRODID:-//ChamberMaster//Event Calendar 2.0//EN
METHOD:PUBLISH
X-PUBLISHED-TTL:P3D
REFRESH-INTERVAL:P3D
CALSCALE:GREGORIAN
BEGIN:VEVENT
DTSTART:20130928T113000Z
DTEND:20130928T153000Z
X-MICROSOFT-CDO-ALLDAYEVENT:FALSE
SUMMARY:3rd annual Central Nebraska Race for the Cure
DESCRIPTION:The 3rd Annual Central Nebraska Race for the Cure\, benefiting the Susan G. Komen Foundation for Breast Cancer Treatment and Awareness\, will be held on the UNK campus on Saturday\, September 28\, 2013.\n\n	A competitive / timed 5K run will begin at 7:30 AM\, and fun Run / Walk will begin at 8:30 AM.  To register go to http://nebraska.info-komen.org/site/TR?fr_id=3470&pg=entry
X-ALT-DESC;FMTTYPE=text/html:<p class="MsoNormal" style="margin: 0in 0in 0pt\;">\n	&nbsp\;</p>\n<p class="MsoNormal" style="margin: 0in 0in 0pt\;">\n	<span style="color: fuchsia\; font-family: &quot\;Arial&quot\;\,&quot\;sans-serif&quot\;\; font-size: 12pt\;"><span lang="EN" style="font-family: &quot\;Arial&quot\;\,&quot\;sans-serif&quot\;\; mso-ansi-language: EN\; mso-bidi-font-weight: bold\;"><font color="#000000">The 3<sup>rd</sup> Annual Central Nebraska Race for the Cure\, benefiting the Susan G. Komen Foundation for Breast Cancer Treatment and Awareness\, will be held on the UNK campus on Saturday\, September 28\, 2013.<br />\n	A competitive / timed 5K run will begin at 7:30 AM\, and fun Run / Walk will begin at 8:30 AM.<span style="mso-spacerun: yes\;">&nbsp\; </span>To register go to </font><a href="http://nebraska.info-komen.org/site/TR?fr_id=3470&amp\;pg=entry"><font color="#0000ff">http://nebraska.info-komen.org/site/TR?fr_id=3470&amp\;pg=entry</font></a><o:p></o:p></span></span></p>\n<p class="MsoNormal" style="margin: 0in 0in 0pt\;">\n	&nbsp\;</p>\n
LOCATION:UNK - Health and Sports Center
UID:e.1404.3260
SEQUENCE:3
DTSTAMP:20260424T020900Z
URL:https://members.kearneycoc.org/events/details/3rd-annual-central-nebraska-race-for-the-cure-09-28-2013-3260
END:VEVENT

END:VCALENDAR
