BEGIN:VCALENDAR
VERSION:2.0
PRODID:-//ChamberMaster//Event Calendar 2.0//EN
METHOD:PUBLISH
X-PUBLISHED-TTL:P3D
REFRESH-INTERVAL:P3D
CALSCALE:GREGORIAN
BEGIN:VEVENT
DTSTART:20190920T230000Z
DTEND:20190921T003000Z
X-MICROSOFT-CDO-ALLDAYEVENT:FALSE
SUMMARY:3rd Annual Lego Home Building Competition
DESCRIPTION:Join us for our Lego Home Building Competition where you can imagine\, create\, and compete in a friendly and fun atmosphere! During the event\, each builder will get a hardhat and building permit that will allow them to build in the competition. During the competition\, they will be supplied with a base board\, Lego kits\, and specialty Legos to complete their house. Are you ready to build? \n\nRegistration for Age Division 4-6\n\nRegistration for Age Division 7-9\n\nRegistration for Age Division 10-12
X-ALT-DESC;FMTTYPE=text/html:<p>Join us for our Lego Home Building Competition where you can imagine\, create\, and compete in a friendly and fun atmosphere! During the event\, each builder will get a hardhat and building permit that will allow them to build in the competition. During the competition\, they will be supplied with a base board\, Lego kits\, and specialty Legos to complete their house. Are you ready to build?&nbsp\;</p>\n\n<p><a href="https://sales.kearneychildrensmuseum.org/patroneducation.aspx?pid=30733" style="box-sizing: border-box\; background-color: transparent\; color: rgb(72\, 170\, 210)\; text-decoration-line: none\; outline: none\; transition: all 0.14s ease 0s\; word-break: break-all\;" target="_blank">Registration for Age Division 4-6</a></p>\n\n<p><a href="https://sales.kearneychildrensmuseum.org/patroneducation.aspx?pid=30734" style="box-sizing: border-box\; background-color: transparent\; color: rgb(72\, 170\, 210)\; text-decoration-line: none\; outline: none\; transition: all 0.14s ease 0s\; word-break: break-all\;" target="_blank">Registration for Age Division 7-9</a></p>\n\n<p><a href="https://sales.kearneychildrensmuseum.org/patroneducation.aspx?pid=30735" style="box-sizing: border-box\; background-color: transparent\; color: rgb(72\, 170\, 210)\; text-decoration-line: none\; outline: none\; transition: all 0.14s ease 0s\; word-break: break-all\;" target="_blank">Registration for Age Division 10-12</a></p>\n
LOCATION:Kearney Area Children's Museum Alia Arram Memorial Building 5827 4th Avenue\, Kearney\, NE 68845
UID:e.1404.16642
SEQUENCE:3
DTSTAMP:20260425T195357Z
URL:https://members.kearneycoc.org/events/details/3rd-annual-lego-home-building-competition-16642
END:VEVENT

END:VCALENDAR
