BEGIN:VCALENDAR
VERSION:2.0
PRODID:-//ChamberMaster//Event Calendar 2.0//EN
METHOD:PUBLISH
X-PUBLISHED-TTL:P3D
REFRESH-INTERVAL:P3D
CALSCALE:GREGORIAN
BEGIN:VEVENT
DTSTART;VALUE=DATE:20150911
DTEND;VALUE=DATE:20150914
TRANSP:TRANSPARENT
X-MICROSOFT-CDO-ALLDAYEVENT:TRUE
SUMMARY:3rd Annual Walk in the Copes' Shoes
DESCRIPTION:Walk in the Copes' Shoes\, which will be September 11-13\, is a remembrance of the legacy and community support that Ron and Carol Cope gave through volunteering and donating. Walk in the Copes' Shoes began in 2013 as a way to share in the way the Copes lived by giving or doing something small that made a big difference in the lives of others. It could be a random act of kindness or a planned event. It could take five minutes or a couple of hours. It could be something small or a life-long change for the betterment of the community.\n\n \n\nJoin the Chamber in giving donations to the Kearney Area Animal Shelter! Drop off donations at the Chamber office anytime on Friday from 8am-5pm\, or at the Kearney Visitor's Bureau on Saturday from 9am-5pm. \n\n \n\nThe Kearney Area Animal Shelter is in current need of the following:\n\n\n	Cleaning Supplies\n	Cat Litter\n	Puppy Formula\n	Kitten Formula
X-ALT-DESC;FMTTYPE=text/html:<div style="color: rgb(112\, 114\, 112)\; font-family: Arial\, Helvetica\, sans-serif\; font-size: 14.6667px\; line-height: 20.5333px\;"><span _mce_style="font-size: 11pt\; line-height: 1.4em\;" style="font-size: 11pt\; line-height: 1.4em\;">Walk in the Copes&#39\; Shoes\, which will be September 11-13\, is a remembrance of the legacy and community support that Ron and Carol Cope gave through volunteering and donating.&nbsp\;Walk in the Copes&#39\; Shoes began in 2013 as a way to share in the way the Copes lived by giving or doing something small that made a big difference in the lives of others. It could be a random act of kindness or a planned event. It could take five minutes or a couple of hours. It could be something small or a life-long change for the betterment of the community.</span></div>\n\n<div style="color: rgb(112\, 114\, 112)\; font-family: Arial\, Helvetica\, sans-serif\; font-size: 14.6667px\; line-height: 20.5333px\;">&nbsp\;</div>\n\n<div style="color: rgb(112\, 114\, 112)\; font-family: Arial\, Helvetica\, sans-serif\; font-size: 14.6667px\; line-height: 20.5333px\;"><span _mce_style="font-size: 11pt\; line-height: 1.4em\;" style="font-size: 11pt\; line-height: 1.4em\;">Join the Chamber in giving donations to the Kearney Area Animal Shelter! Drop off donations at the Chamber office anytime on Friday from 8am-5pm\, or at the Kearney Visitor&#39\;s Bureau on Saturday from 9am-5pm.&nbsp\;</span><br />\n&nbsp\;</div>\n\n<div _mce_style="text-align: left\;" align="left" style="color: rgb(112\, 114\, 112)\; font-family: Arial\, Helvetica\, sans-serif\; font-size: 14.6667px\; line-height: 20.5333px\;"><span _mce_style="font-size: 11pt\; line-height: 1.4em\;" style="font-size: 11pt\; line-height: 1.4em\;">The Kearney Area Animal Shelter is in current need of the following:</span></div>\n\n<ul _mce_style="text-align: left\;" align="left" style="color: rgb(112\, 114\, 112)\; font-family: Arial\, Helvetica\, sans-serif\; font-size: 14.6667px\; line-height: 20.5333px\;">\n	<li><span _mce_style="font-size: 11pt\; line-height: 1.4em\;" style="font-size: 11pt\; line-height: 1.4em\;">Cleaning Supplies</span></li>\n	<li><span _mce_style="font-size: 11pt\; line-height: 1.4em\;" style="font-size: 11pt\; line-height: 1.4em\;">Cat Litter</span></li>\n	<li><span _mce_style="font-size: 11pt\; line-height: 1.4em\;" style="font-size: 11pt\; line-height: 1.4em\;">Puppy Formula</span></li>\n	<li><span _mce_style="font-size: 11pt\; line-height: 1.4em\;" style="font-size: 11pt\; line-height: 1.4em\;">Kitten Formula</span></li>\n</ul>\n
LOCATION:
UID:e.1404.6726
SEQUENCE:3
DTSTAMP:20260422T101728Z
URL:https://members.kearneycoc.org/events/details/3rd-annual-walk-in-the-copes-shoes-09-11-2015-6726
END:VEVENT

END:VCALENDAR
