BEGIN:VCALENDAR
VERSION:2.0
PRODID:-//ChamberMaster//Event Calendar 2.0//EN
METHOD:PUBLISH
X-PUBLISHED-TTL:P3D
REFRESH-INTERVAL:P3D
CALSCALE:GREGORIAN
BEGIN:VEVENT
DTSTART:20150728T133000Z
DTEND:20150728T170000Z
X-MICROSOFT-CDO-ALLDAYEVENT:FALSE
SUMMARY:4-H Livestock Auction
DESCRIPTION:Support 4-H at the annual Livestock Auction Sale
X-ALT-DESC;FMTTYPE=text/html:Support 4-H at the annual Livestock Auction Sale
LOCATION:Buffalo County Fairgrounds Ag Pavilion
UID:e.1404.6479
SEQUENCE:3
DTSTAMP:20260422T132913Z
URL:https://members.kearneycoc.org/events/details/4-h-livestock-auction-07-28-2015-6479
END:VEVENT

END:VCALENDAR
