BEGIN:VCALENDAR
VERSION:2.0
PRODID:-//ChamberMaster//Event Calendar 2.0//EN
METHOD:PUBLISH
X-PUBLISHED-TTL:P3D
REFRESH-INTERVAL:P3D
CALSCALE:GREGORIAN
BEGIN:VEVENT
DTSTART:20140729T133000Z
DTEND:20140729T163000Z
X-MICROSOFT-CDO-ALLDAYEVENT:FALSE
SUMMARY:4-H Livestock Auction
DESCRIPTION:Buffalo County 4-H Livestock Auction\n\nTuesday\, July 29\, 2014 - 8:30 A.M.\n\nAg Pavilion/Buffalo County Fairgrounds\n\n \n\nYour presence at the sale is desired but if you are unable to attend\, the chamber sale committee can place your bid for you.  The bid would be based on the level of support you show below.\n\n \n\nMost businesses and individuals that buy 4-H livestock don't keep the animal\, but resell the animal to packinghouses that provide a base bid.  In this case\, you pay only the difference of your bid and the packinghouse bid (= your net premium)\, yet you receive all the recognition of being the buyer.\n\n \n\nIf you wish to 'not resell' the animal but have it processed (for your freezer) please let us know the locker of your choice.  We do provide the transportation of the animal to lockers at no charge.  Buyers need to call their locker to inform them that you plan to buy an animal at the 4-H auction on July 29.  \n\n*Thank you to all past supporters\, we greatly appreciate your continuous support!!\n\n\n\nClick here for form
X-ALT-DESC;FMTTYPE=text/html:<font color="#99cc00" face="rockwell extra bold\, serif"><span style="font-size: 27px\; line-height: 42.666664123535156px\;"><b><u>Buffalo County 4-H Livestock Auction</u></b></span></font><br />\n<strong><span style="color:#99CC00\;"><span style="font-family:rockwell extra bold\,serif\;"><span style="font-size:16.0pt\;">Tuesday\, July 29\, 2014 - 8:30 A.M.</span></span></span></strong><br />\n<strong><span style="color:#99CC00\;"><span style="font-family:rockwell extra bold\,serif\;"><span style="font-size:16.0pt\;">Ag Pavilion/Buffalo County Fairgrounds</span></span></span></strong><br />\n&nbsp\;<br />\n<span style="font-size:12.0pt\;">Your presence at the sale is desired but if you are unable to attend\, the chamber sale committee can place your bid for you.&nbsp\; The bid would be based on the level of support you show below.</span><br />\n&nbsp\;<br />\n<span style="font-size:12.0pt\;">Most businesses and individuals that buy 4-H livestock don&#39\;t keep the animal\, but resell the animal to packinghouses that provide a base bid.&nbsp\; In this case\, you pay only the difference of your bid and the packinghouse bid (= your net premium)\, yet you receive all the recognition of being the buyer.</span><br />\n&nbsp\;<br />\n<span style="font-size:12.0pt\;">If you wish to &lsquo\;not resell&rsquo\; the animal but have it processed (for your freezer) please let us know the locker of your choice.&nbsp\; We do provide the transportation of the animal to lockers at no charge.&nbsp\; <strong><u>Buyers need to call their locker</u> to inform them that you plan to buy an animal at the 4-H auction on July 29.</strong> &nbsp\;</span><br />\n<strong><span style="color:#99CC00\;"><span style="font-family:rockwell extra bold\,serif\;"><span style="font-size:12.0pt\;">*Thank you to all past supporters\, we greatly appreciate your continuous support!!<br />\n<br />\nClick<a href="http://cloud.chambermaster.com/userfiles/UserFiles/chambers/1404/File/4hsaleflyer-2014.pdf"> </a></span></span></span><span style="font-family:rockwell extra bold\,serif\;"><span style="font-size:12.0pt\;"><a href="http://cloud.chambermaster.com/userfiles/UserFiles/chambers/1404/File/4hsaleflyer-2014.pdf"><span style="color:#000000\;"><u>here</u></span></a></span></span><span style="color:#99CC00\;"><span style="font-family:rockwell extra bold\,serif\;"><span style="font-size:12.0pt\;"> for form</span></span></span></strong>
LOCATION:Ag Pavilion/Buffalo County Fairgrounds
UID:e.1404.5152
SEQUENCE:3
DTSTAMP:20260423T113814Z
URL:https://members.kearneycoc.org/events/details/4-h-livestock-auction-07-29-2014-5152
END:VEVENT

END:VCALENDAR
