BEGIN:VCALENDAR
VERSION:2.0
PRODID:-//ChamberMaster//Event Calendar 2.0//EN
METHOD:PUBLISH
X-PUBLISHED-TTL:P3D
REFRESH-INTERVAL:P3D
CALSCALE:GREGORIAN
BEGIN:VEVENT
DTSTART:20120731T133000Z
DTEND:20120731T160000Z
X-MICROSOFT-CDO-ALLDAYEVENT:FALSE
SUMMARY:4-H Livestock Auction
DESCRIPTION:Your presence at the sale is desired but if you are unable to attend\, the chamber sale committee can place your bid for you.  The bid would be based on the level of support you show below.\n\n \n\nMost businesses and individuals that buy 4-H livestock don't keep the animal\, but resell the animal to packinghouses present at the sale.  In this case\, you pay only the difference of your bid and the packinghouse bid (= your net premium)\, yet you receive all the recognition.\n\n \n\nIf you wish to not resell the animal but have it processed (for your freezer)\, please let us know the locker of your choice.  We do provide the transportation of the animal to lockers at no charge.  Buyers need to call their lockerto inform them that you plan to buy an animal at the4-H auction on July 31.  \n\n*Thank you to all past supporters\, we greatly appreciate your continuous support!!
X-ALT-DESC;FMTTYPE=text/html:<span style="font-size:12px\;"><span style="font-family: arial\;">Your presence at the sale is desired but if you are unable to attend\, the chamber sale committee can place your bid for you.&nbsp\; The bid would be based on the level of support you show below.<br />\n&nbsp\;<br />\nMost businesses and individuals that buy 4-H livestock don&#39\;t keep the animal\, but resell the animal to packinghouses present at the sale.&nbsp\; In this case\, you pay only the difference of your bid and the packinghouse bid (= your net premium)\, yet you receive all the recognition.<br />\n&nbsp\;<br />\nIf you wish to not resell the animal but have it processed (for your freezer)\, please let us know the locker of your choice.&nbsp\; We do provide the transportation of the animal to lockers at no charge.&nbsp\; Buyers need to call their lockerto inform them that you plan to buy an animal at the4-H auction on July 31. &nbsp\;<br />\n<span style="color: rgb(153\, 204\, 0)\;">*Thank you to all past supporters\, we greatly appreciate your continuous support!!</span></span></span>
LOCATION:Ag Pavilion/Buffalo County Fairgrounds
UID:e.1404.1962
SEQUENCE:3
DTSTAMP:20260425T033023Z
URL:https://members.kearneycoc.org/events/details/4-h-livestock-auction-07-31-2012-1962
END:VEVENT

END:VCALENDAR
