BEGIN:VCALENDAR
VERSION:2.0
PRODID:-//ChamberMaster//Event Calendar 2.0//EN
METHOD:PUBLISH
X-PUBLISHED-TTL:P3D
REFRESH-INTERVAL:P3D
CALSCALE:GREGORIAN
BEGIN:VEVENT
DTSTART:20120726T223000Z
DTEND:20120727T000000Z
X-MICROSOFT-CDO-ALLDAYEVENT:FALSE
SUMMARY:4-H Pie & Decorated Cake Auction
DESCRIPTION:The 3rd Annual 4-H Pie & Decorated Cake Auction will be held at the 2012 Buffalo County Fair.  Selling to the highest bidder on Thursday afternoon will be all the pies with homemade crusts and fruit fillings made by 4-H members\, along with the top four decorated cakes.  All of these yummy items will have been judged and given a ribbon placing.  \n\n\n\nThis is your invitation.  Please attend this community event at 5:30 PM. Please help support the Buffalo County 4-H Program with your attendance.  The purchase price will be evenly divided between the 4-H member and the Buffalo County 4-H Scholarship and FCS Program Funds.  \n\n\n\nCome to the Fair\, buy your dessert\, and enjoy the attractions! Taste the talents of our Buffalo County youth while recognizing the benefits of the 4-H program in our county and state.
X-ALT-DESC;FMTTYPE=text/html:The 3rd Annual 4-H Pie &amp\; Decorated Cake Auction will be held at the 2012 Buffalo County Fair.&nbsp\; Selling to the highest bidder on Thursday afternoon will be all the pies with homemade crusts and fruit fillings made by 4-H members\, along with the top four decorated cakes.&nbsp\; All of these yummy items will have been judged and given a ribbon placing. &nbsp\;<br />\n<br />\nThis is your invitation.&nbsp\; Please attend this community event at 5:30 PM. Please help support the Buffalo County 4-H Program with your attendance.&nbsp\; The purchase price will be evenly divided between the 4-H member and the Buffalo County 4-H Scholarship and FCS Program Funds. &nbsp\;<br />\n<br />\nCome to the Fair\, buy your dessert\, and enjoy the attractions! Taste the talents of our Buffalo County youth while recognizing the benefits of the 4-H program in our county and state.&nbsp\; 
LOCATION:Buffalo County Fairgrounds Exhibit Building
UID:e.1404.1960
SEQUENCE:3
DTSTAMP:20260425T032935Z
URL:https://members.kearneycoc.org/events/details/4-h-pie-decorated-cake-auction-07-26-2012-1960
END:VEVENT

END:VCALENDAR
