BEGIN:VCALENDAR
VERSION:2.0
PRODID:-//ChamberMaster//Event Calendar 2.0//EN
METHOD:PUBLISH
X-PUBLISHED-TTL:P3D
REFRESH-INTERVAL:P3D
CALSCALE:GREGORIAN
BEGIN:VEVENT
DTSTART:20191003T180000Z
DTEND:20191003T200000Z
X-MICROSOFT-CDO-ALLDAYEVENT:FALSE
SUMMARY:4th Annual Services Event for People with Disabilities
DESCRIPTION:4th Annual Services Event for People with Disabilities\n\n\n\nMission: To enhance quality of life for individuals with disabilities or impairments by connecting them to helping agencies to gain services\, independence\, and well-being.\n\n\n\nPurpose: Learn about different agencies in our community that can help with disability related services through an open house setting. Light snack and water provided.
X-ALT-DESC;FMTTYPE=text/html:4th Annual Services Event for People with Disabilities<br />\n<br />\n<strong>Mission:</strong> To enhance quality of life for individuals with disabilities or impairments by connecting them to helping agencies to gain services\, independence\, and well-being.<br />\n<br />\n<strong>Purpose:</strong> Learn about different agencies in our community that can help with disability related services through an open house setting. Light snack and water provided.&nbsp\;
LOCATION:Kearney Public Library *Upstairs* 2020 1st Ave
UID:e.1404.18143
SEQUENCE:3
DTSTAMP:20260425T163937Z
URL:https://members.kearneycoc.org/events/details/4th-annual-services-event-for-people-with-disabilities-18143
END:VEVENT

END:VCALENDAR
