BEGIN:VCALENDAR
VERSION:2.0
PRODID:-//ChamberMaster//Event Calendar 2.0//EN
METHOD:PUBLISH
X-PUBLISHED-TTL:P3D
REFRESH-INTERVAL:P3D
CALSCALE:GREGORIAN
BEGIN:VEVENT
DTSTART:20120704T210000Z
DTEND:20120705T040000Z
X-MICROSOFT-CDO-ALLDAYEVENT:FALSE
SUMMARY:4th of July Big Igloo Freedom Fest
DESCRIPTION:Come experience the 4th of July 'Big Igloo' style!  We will kick off the festivities at 4pm with carnival games\, toddler area\, free food (hamburgers\, hot dogs\, cotton candy\, funnel cakes...) a HUGE 'big kid' water slide\, inflatables\, water games\, bingo and more!  At 9pm\, gather the family for comedian Jason Earls followed by an AMAZING fireworks display at 10pm. Absolutely Everything is FREE!  Come visit us at Grace 4305 19th Ave...just look for the 'Big Igloo'.  We would love to be part of your family's Fourth of July tradition!
X-ALT-DESC;FMTTYPE=text/html:Come experience the 4th of July &#39\;Big Igloo&#39\; style! &nbsp\;We will kick off the festivities at 4pm with carnival games\, toddler area\, free food (hamburgers\, hot dogs\, cotton candy\, funnel cakes...) a HUGE &#39\;big kid&#39\; water slide\, inflatables\, water games\, bingo and more! &nbsp\;At 9pm\, gather the family for comedian Jason Earls followed by an AMAZING fireworks display at 10pm. Absolutely Everything is FREE! &nbsp\;Come visit us at Grace 4305 19th Ave...just look for the &#39\;Big Igloo&#39\;. &nbsp\;We would love to be part of your family&#39\;s Fourth of July tradition!
LOCATION:Grace 4305 19th Ave Kearney\, NE
UID:e.1404.1924
SEQUENCE:3
DTSTAMP:20260425T033228Z
URL:https://members.kearneycoc.org/events/details/4th-of-july-big-igloo-freedom-fest-07-04-2012-1924
END:VEVENT

END:VCALENDAR
