BEGIN:VCALENDAR
VERSION:2.0
PRODID:-//ChamberMaster//Event Calendar 2.0//EN
METHOD:PUBLISH
X-PUBLISHED-TTL:P3D
REFRESH-INTERVAL:P3D
CALSCALE:GREGORIAN
BEGIN:VEVENT
DTSTART:20150704T220000Z
DTEND:20150705T040000Z
X-MICROSOFT-CDO-ALLDAYEVENT:FALSE
SUMMARY:4th of July Big Igloo Freedom Fest
DESCRIPTION:Bring the family and join us at the Big Igloo for FREE hamburgers\, hot dogs\, funnel cakes\, cotton candy\, inflatables\, rock wall\, kiddie train\, toddler tent\, HUGE water slide\, water park and SO MUCH MORE! Stick around for an amazing professional fireworks display at 10pm. See you on the 4th!
X-ALT-DESC;FMTTYPE=text/html:Bring the family and join us at the Big Igloo for FREE hamburgers\, hot dogs\, funnel cakes\, cotton candy\, inflatables\, rock wall\, kiddie train\, toddler tent\, HUGE water slide\, water park and SO MUCH MORE! Stick around for an amazing professional fireworks display at 10pm. See you on the 4th!
LOCATION:Grace Fellowship (The Big Igloo) 4305 19th Ave Kearney\, NE
UID:e.1404.6405
SEQUENCE:3
DTSTAMP:20260422T152726Z
URL:https://members.kearneycoc.org/events/details/4th-of-july-big-igloo-freedom-fest-07-04-2015-6405
END:VEVENT

END:VCALENDAR
