BEGIN:VCALENDAR
VERSION:2.0
PRODID:-//ChamberMaster//Event Calendar 2.0//EN
METHOD:PUBLISH
X-PUBLISHED-TTL:P3D
REFRESH-INTERVAL:P3D
CALSCALE:GREGORIAN
BEGIN:VEVENT
DTSTART:20151119T010000Z
DTEND:20151119T030000Z
X-MICROSOFT-CDO-ALLDAYEVENT:FALSE
SUMMARY:5th Annual Central Nebraska Business Idea Contest
DESCRIPTION:Future entrepreneurs will present their business ideas during the 5th annual Central Nebraska Business Idea Contest. The top 10 will present their business ideas at 7 p.m. Nov. 18 at Cunningham?s Journal in downtown Kearney in an event similar to the ?Shark Tank? television program. The winner receives $1\,000. The purpose of the event\, sponsored by the Center for Rural Research and Development at the University of Nebraska at Kearney\, is to support a culture of entrepreneurship in the area by providing those entering with feedback through networking with other entrepreneurs and community leaders.
X-ALT-DESC;FMTTYPE=text/html:Future entrepreneurs will present their business ideas during the 5th annual Central Nebraska Business Idea Contest. The top 10 will present their business ideas at 7 p.m. Nov. 18 at Cunningham?s Journal in downtown Kearney in an event similar to the ?Shark Tank? television program. The winner receives $1\,000. The purpose of the event\, sponsored by the Center for Rural Research and Development at the University of Nebraska at Kearney\, is to support a culture of entrepreneurship in the area by providing those entering with feedback through networking with other entrepreneurs and community leaders.
LOCATION:Cunningham's Journal 15 West 23rd Street Kearney\, NE 68848
UID:e.1404.7076
SEQUENCE:3
DTSTAMP:20260422T064929Z
URL:https://members.kearneycoc.org/events/details/5th-annual-central-nebraska-business-idea-contest-11-18-2015-7076
END:VEVENT

END:VCALENDAR
