BEGIN:VCALENDAR
VERSION:2.0
PRODID:-//ChamberMaster//Event Calendar 2.0//EN
METHOD:PUBLISH
X-PUBLISHED-TTL:P3D
REFRESH-INTERVAL:P3D
CALSCALE:GREGORIAN
BEGIN:VEVENT
DTSTART:20210814T210000Z
DTEND:20210815T020000Z
X-MICROSOFT-CDO-ALLDAYEVENT:FALSE
SUMMARY:71st Annual Comeca Cookout
DESCRIPTION:Come out to Comeca just south of Cozad for our 71st Annual Comeca Cookout!\n\n\n\nOur mouth-watering "Holy-Smoked Ribs" and delicious grilled chicken entrees are BACK again for all to enjoy! This fundraiser supports Comeca's mission and is an exciting event for individuals and families! Join us for great food\, live music on the green space stage\, Comeca activities\, & meaningful connection! Tickets available at www.comeca.camp/cookout
X-ALT-DESC;FMTTYPE=text/html:<span style="font-family:montserrat\; font-size:16px">Come out to Comeca just south of Cozad for our 71st Annual Comeca Cookout!<br />\n<br />\nOur mouth-watering &ldquo\;Holy-Smoked Ribs&rdquo\; and delicious grilled chicken entrees are BACK again for all to enjoy! This fundraiser supports Comeca&rsquo\;s mission and is an exciting event for individuals and families! Join us for great food\, live music on the green space stage\, Comeca activities\, &amp\; meaningful connection! Tickets available at www.comeca.camp/cookout</span>
LOCATION:Comeca Camp and Retreat Center 75670 Road 417 Cozad\, NE 69130
UID:e.1404.19331
SEQUENCE:3
DTSTAMP:20260424T020448Z
URL:https://members.kearneycoc.org/events/details/71st-annual-comeca-cookout-19331
END:VEVENT

END:VCALENDAR
