BEGIN:VCALENDAR
VERSION:2.0
PRODID:-//ChamberMaster//Event Calendar 2.0//EN
METHOD:PUBLISH
X-PUBLISHED-TTL:P3D
REFRESH-INTERVAL:P3D
CALSCALE:GREGORIAN
BEGIN:VEVENT
DTSTART:20140718T003000Z
DTEND:20140720T030000Z
X-MICROSOFT-CDO-ALLDAYEVENT:FALSE
SUMMARY:9 To 5 The Musical
DESCRIPTION:
X-ALT-DESC;FMTTYPE=text/html:
LOCATION:Kearney Community Theatre
UID:e.1404.4877
SEQUENCE:3
DTSTAMP:20260423T101228Z
URL:https://members.kearneycoc.org/events/details/9-to-5-the-musical-07-17-2014-4877
END:VEVENT

END:VCALENDAR
