BEGIN:VCALENDAR
VERSION:2.0
PRODID:-//ChamberMaster//Event Calendar 2.0//EN
METHOD:PUBLISH
X-PUBLISHED-TTL:P3D
REFRESH-INTERVAL:P3D
CALSCALE:GREGORIAN
BEGIN:VEVENT
DTSTART:20190426T193000Z
DTEND:20190426T220000Z
X-MICROSOFT-CDO-ALLDAYEVENT:FALSE
SUMMARY:A Blueprint for Community Collaboration
DESCRIPTION:Rountable Discussion with Community Leaders - 2:30-3:45 p.m.\n\nThe Community Roundtable discussion will provide community leaders and stakeholders an opportunity to discuss challenges\, lessons learned and future opportunities with architects/designers and community members about development in Kearney with an emphasis on downtown revitalization/preservation.\n\n\n\n\n\nKeynote Address by Chris M. Baribeau\, AIA\, Principal Architect\, modus studio\, Fayetteville\, Arkansas\n\nAs the principal architect of modus studio\, of Fayetteville\, Arkansas. Chris follows the idea that architecture can be sourced from the simple\, everyday experiences of life. Learn from Chris how architecture has the ability to enhance the quality of life and be inspiring to all people in a practical way. \n\n\n\nRecent projects in Arkansas include a reinterpretation of traditional school design for a small agricultural community\; a renovation of four dated Fayetteville apartment buildings to improve aesthetics\, performance\, and sustainability\; and transformation of a warehouse on a brownfield site into a University of Arkansas sculpture studio.
X-ALT-DESC;FMTTYPE=text/html:<strong>Rountable Discussion with Community Leaders - 2:30-3:45 p.m.</strong><br />\n<span style="font-size:12px\;"><span style="font-family:arial\;"><span style="color: rgb(0\, 0\, 0)\;">The Community Roundtable discussion will provide community leaders and stakeholders an opportunity to discuss challenges\, lessons learned and future opportunities with architects/designers and community members about development in Kearney with an emphasis on downtown revitalization/preservation.</span></span></span><br />\n<br />\n<br />\n<strong>Keynote Address by Chris M. Baribeau\, AIA\, Principal Architect\, modus studio\, Fayetteville\, Arkansas</strong><br />\nAs the principal architect of modus studio\, of Fayetteville\, Arkansas. Chris follows the idea that architecture can be sourced from the simple\, everyday experiences of life. Learn from Chris how architecture has the ability to enhance the quality of life and be inspiring to all people in a practical way.&nbsp\;<br />\n<br />\nRecent projects in Arkansas include a reinterpretation of traditional school design for a small agricultural community\; a renovation of four dated Fayetteville apartment buildings to improve aesthetics\, performance\, and sustainability\; and transformation of a warehouse on a brownfield site into a University of Arkansas sculpture studio.&nbsp\;<br />\n<br />\n<br />\n&nbsp\;
LOCATION:World Theatre 2318 Central Ave
UID:e.1404.15955
SEQUENCE:3
DTSTAMP:20260426T020431Z
URL:https://members.kearneycoc.org/events/details/a-blueprint-for-community-collaboration-15955
END:VEVENT

END:VCALENDAR
