BEGIN:VCALENDAR
VERSION:2.0
PRODID:-//ChamberMaster//Event Calendar 2.0//EN
METHOD:PUBLISH
X-PUBLISHED-TTL:P3D
REFRESH-INTERVAL:P3D
CALSCALE:GREGORIAN
BEGIN:VEVENT
DTSTART:20190625T230000Z
DTEND:20190626T000000Z
X-MICROSOFT-CDO-ALLDAYEVENT:FALSE
SUMMARY:A Butterfly to Remember
DESCRIPTION:A Butterfly to Remember - Asera Care Hospice\n\nAn event to honor individuals and families they have cared for this year.
X-ALT-DESC;FMTTYPE=text/html:A Butterfly to Remember - Asera Care Hospice<br />\nAn event to honor individuals and families they have cared for this year.
LOCATION:Harmon Park Sonotorium Stage 3100 5th Ave.
UID:e.1404.16517
SEQUENCE:3
DTSTAMP:20260425T230727Z
URL:https://members.kearneycoc.org/events/details/a-butterfly-to-remember-16517
END:VEVENT

END:VCALENDAR
