BEGIN:VCALENDAR
VERSION:2.0
PRODID:-//ChamberMaster//Event Calendar 2.0//EN
METHOD:PUBLISH
X-PUBLISHED-TTL:P3D
REFRESH-INTERVAL:P3D
CALSCALE:GREGORIAN
BEGIN:VEVENT
DTSTART:20160622T233000Z
DTEND:20160623T013000Z
X-MICROSOFT-CDO-ALLDAYEVENT:FALSE
SUMMARY:A Community Conversation: Nebraska's Energy Future
DESCRIPTION:Join local community folks in a conversation about the future of Nebraska's Public Power System\, how and where we get our power and the changing dynamics around those issues in our state.
X-ALT-DESC;FMTTYPE=text/html:Join local community folks in a conversation about the future of Nebraska&#39\;s Public Power System\, how and where we get our power and the changing dynamics around those issues in our state.
LOCATION:University of Nebraska Kearney Campus Copeland Room 140
UID:e.1404.8906
SEQUENCE:3
DTSTAMP:20260421T201929Z
URL:https://members.kearneycoc.org/events/details/a-community-conversation-nebraska-s-energy-future-06-22-2016-8906
END:VEVENT

END:VCALENDAR
