BEGIN:VCALENDAR
VERSION:2.0
PRODID:-//ChamberMaster//Event Calendar 2.0//EN
METHOD:PUBLISH
X-PUBLISHED-TTL:P3D
REFRESH-INTERVAL:P3D
CALSCALE:GREGORIAN
BEGIN:VEVENT
DTSTART:20190330T003000Z
DTEND:20190331T190000Z
X-MICROSOFT-CDO-ALLDAYEVENT:FALSE
SUMMARY:A Connecticut Yankee in King Arthur's Court
DESCRIPTION:Kearney Community Theatre presents the Academy of Children's Theatre production of A CONNECTICUT YANKEE IN KING ARTHUR'S COURT based on the Mark Twain classic by Tim Kelly. Suitable for all ages
X-ALT-DESC;FMTTYPE=text/html:Kearney Community Theatre presents the Academy of Children&#39\;s Theatre production of A CONNECTICUT YANKEE IN KING ARTHUR&#39\;S COURT based on the Mark Twain classic by Tim Kelly. Suitable for all ages
LOCATION:Kearney Community Theatre 83 Plaza Blvd
UID:e.1404.15432
SEQUENCE:3
DTSTAMP:20260426T033411Z
URL:https://members.kearneycoc.org/events/details/a-connecticut-yankee-in-king-arthur-s-court-15432
END:VEVENT

END:VCALENDAR
