BEGIN:VCALENDAR
VERSION:2.0
PRODID:-//ChamberMaster//Event Calendar 2.0//EN
METHOD:PUBLISH
X-PUBLISHED-TTL:P3D
REFRESH-INTERVAL:P3D
CALSCALE:GREGORIAN
BEGIN:VEVENT
DTSTART:20130507T230000Z
DTEND:20130508T010000Z
X-MICROSOFT-CDO-ALLDAYEVENT:FALSE
SUMMARY:AAA Insurance Free Bicycle Safety Event
DESCRIPTION:Join us at the AAA Kearney Office \n\nTuesday\, May 7th from 6 p.m. to 8 p.m. with your children for: \n\n        A FREE child's bicycle helmet for children ages 5-14 while supplies last.\n\n\n\n\n\n         Helmet fitting (child and helmet must accompany you) \n\n         Bicycle safety tips \n\n         AAA Service vehicle demonstrations \n\n         Special offers from local AAA Show Your Card and Save vendors \n\n         AAA Membership specials \n\n         Door prizes
X-ALT-DESC;FMTTYPE=text/html:<strong><span style="font-family:arial\,sans-serif\;"><span style="font-size:10pt\;">Join us at the AAA Kearney Office </span></span></strong><br />\n<strong><span style="font-family:arial\,sans-serif\;"><span style="font-size:10pt\;">Tuesday\, May 7th from 6 p.m. to 8 p.m. with your children for: </span></span></strong><br />\n<span style="font-family:arial\,sans-serif\;"><span style="font-size:10pt\;">&bull\;&nbsp\;&nbsp\;&nbsp\;&nbsp\;&nbsp\;&nbsp\; </span></span><strong><span style="color:#009999\;"><span style="font-family:arial\,sans-serif\;"><span style="font-size:10.0pt\;">A FREE child&rsquo\;s bicycle helmet</span></span></span></strong><span style="color:#009999\;"><span style="font-family:arial\,sans-serif\;"><span style="font-size:10.0pt\;"> for children ages 5-14 </span></span></span><strong><em><span style="color:#009999\;"><span style="font-family:arial\,sans-serif\;"><span style="font-size:14.0pt\;">while supplies last</span></span></span></em></strong><span style="color:#009999\;"><span style="font-family:arial\,sans-serif\;"><span style="font-size:10.0pt\;">.</span></span></span><br />\n<br />\n<br />\n<span style="font-family:arial\,sans-serif\;"><span style="font-size:10pt\;">&bull\;&nbsp\;&nbsp\;&nbsp\;&nbsp\;&nbsp\;&nbsp\; </span></span><span style="font-family:arial\,sans-serif\;"><span style="font-size:10pt\;">&nbsp\;Helmet fitting (child and helmet must accompany you) </span></span><br />\n<span style="font-family:arial\,sans-serif\;"><span style="font-size:10pt\;">&bull\;&nbsp\;&nbsp\;&nbsp\;&nbsp\;&nbsp\;&nbsp\; </span></span><span style="font-family:arial\,sans-serif\;"><span style="font-size:10pt\;">&nbsp\;Bicycle safety tips </span></span><br />\n<span style="font-family:arial\,sans-serif\;"><span style="font-size:10pt\;">&bull\;&nbsp\;&nbsp\;&nbsp\;&nbsp\;&nbsp\;&nbsp\; </span></span><span style="font-family:arial\,sans-serif\;"><span style="font-size:10pt\;">&nbsp\;AAA Service vehicle demonstrations </span></span><br />\n<span style="font-family:arial\,sans-serif\;"><span style="font-size:10pt\;">&bull\;&nbsp\;&nbsp\;&nbsp\;&nbsp\;&nbsp\;&nbsp\; </span></span><span style="font-family:arial\,sans-serif\;"><span style="font-size:10pt\;">&nbsp\;Special offers from local AAA Show Your Card and Save vendors </span></span><br />\n<span style="font-family:arial\,sans-serif\;"><span style="font-size:10pt\;">&bull\;&nbsp\;&nbsp\;&nbsp\;&nbsp\;&nbsp\;&nbsp\; </span></span><span style="font-family:arial\,sans-serif\;"><span style="font-size:10pt\;">&nbsp\;AAA Membership specials </span></span><br />\n<span style="font-family:arial\,sans-serif\;"><span style="font-size:10pt\;">&bull\;&nbsp\;&nbsp\;&nbsp\;&nbsp\;&nbsp\;&nbsp\; </span></span><span style="font-family:arial\,sans-serif\;"><span style="font-size:10pt\;">&nbsp\;Door prizes</span></span><br />\n
LOCATION:AAA Kearney Office (203 W 22nd Street)
UID:e.1404.2510
SEQUENCE:3
DTSTAMP:20260424T124708Z
URL:https://members.kearneycoc.org/events/details/aaa-insurance-free-bicycle-safety-event-05-07-2013-2510
END:VEVENT

END:VCALENDAR
