BEGIN:VCALENDAR
VERSION:2.0
PRODID:-//ChamberMaster//Event Calendar 2.0//EN
METHOD:PUBLISH
X-PUBLISHED-TTL:P3D
REFRESH-INTERVAL:P3D
CALSCALE:GREGORIAN
BEGIN:VEVENT
DTSTART:20130405T000000Z
DTEND:20130405T020000Z
X-MICROSOFT-CDO-ALLDAYEVENT:FALSE
SUMMARY:"ABBA" Arrival
DESCRIPTION:The legend of ABBA lives on with an incredible legacy of timeless tunes\, classic pop songs and dance floor beats!
X-ALT-DESC;FMTTYPE=text/html:The legend of ABBA lives on with an incredible legacy of timeless tunes\, classic pop songs and dance floor beats!
LOCATION:Merryman Performing Arts Center 225 W. 22nd St.\, Kearney NE 68845
UID:e.1404.1954
SEQUENCE:3
DTSTAMP:20260424T140014Z
URL:https://members.kearneycoc.org/events/details/abba-arrival-04-04-2013-1954
END:VEVENT

END:VCALENDAR
