BEGIN:VCALENDAR
VERSION:2.0
PRODID:-//ChamberMaster//Event Calendar 2.0//EN
METHOD:PUBLISH
X-PUBLISHED-TTL:P3D
REFRESH-INTERVAL:P3D
CALSCALE:GREGORIAN
BEGIN:VEVENT
DTSTART:20150527T130000Z
DTEND:20150527T150000Z
X-MICROSOFT-CDO-ALLDAYEVENT:FALSE
SUMMARY:ABC Team Meeting
DESCRIPTION:Members of the America's Best Team meeting to discuss the process to move on to Phase II of the funding.
X-ALT-DESC;FMTTYPE=text/html:Members of the America&#39\;s Best Team meeting to discuss the process to move on to Phase II of the funding.&nbsp\;
LOCATION:Chamber of Commerce Meeting Room 1007 Second Avenue Kearney\, NE
UID:e.1404.6258
SEQUENCE:3
DTSTAMP:20260422T182143Z
URL:https://members.kearneycoc.org/events/details/abc-team-meeting-05-27-2015-6258
END:VEVENT

END:VCALENDAR
