BEGIN:VCALENDAR
VERSION:2.0
PRODID:-//ChamberMaster//Event Calendar 2.0//EN
METHOD:PUBLISH
X-PUBLISHED-TTL:P3D
REFRESH-INTERVAL:P3D
CALSCALE:GREGORIAN
BEGIN:VEVENT
DTSTART:20191005T183000Z
DTEND:20191005T213000Z
X-MICROSOFT-CDO-ALLDAYEVENT:FALSE
SUMMARY:ACT Workshop
DESCRIPTION:Struggling to beat the test? We're here to help you! Enroll online at cervelleconsulting.com/actprep. The deadline to register is October 2nd so don't wait!
X-ALT-DESC;FMTTYPE=text/html:Struggling to beat the test? We&#39\;re here to help you! Enroll online at <a href="http://cervelleconsulting.com/actprep">cervelleconsulting.com/actprep</a>. The deadline to register is October 2nd so don&#39\;t wait!&nbsp\;
LOCATION:Cervelle Academic Consulting and Tutoring 2121 Ave B. Kearney NE
UID:e.1404.17930
SEQUENCE:3
DTSTAMP:20260425T163439Z
URL:https://members.kearneycoc.org/events/details/act-workshop-17930
END:VEVENT

END:VCALENDAR
