BEGIN:VCALENDAR
VERSION:2.0
PRODID:-//ChamberMaster//Event Calendar 2.0//EN
METHOD:PUBLISH
X-PUBLISHED-TTL:P3D
REFRESH-INTERVAL:P3D
CALSCALE:GREGORIAN
BEGIN:VEVENT
DTSTART:20140923T230000Z
DTEND:20140924T010000Z
X-MICROSOFT-CDO-ALLDAYEVENT:FALSE
SUMMARY:Affordable Care Act Informational Sessions to be Held
DESCRIPTION:The Nebraska Department of Insurance will be hosting informational sessions on the Affordable Care Act across the state. ?We want to continue our mission of informing people about the Affordable Care Act and present the public factual information about requirements they face with the law as well as discuss potential rate adjustments they may be facing as open enrollment starts in November\,? said Department of Insurance Director Bruce Ramge. The informational sessions will include a brief introduction to the Affordable Care Act and will be followed by general information on: ? Open Enrollment ? Premium Tax Credits ? The Individual Mandate ? Employer-Sponsored Insurance ? The Small Business Health Options Program ? 2015 Premiums For more info\, see: http://www.doi.nebraska.gov/notices/notc2014/NR1404.pdf
X-ALT-DESC;FMTTYPE=text/html:The Nebraska Department of Insurance will be hosting informational sessions on the Affordable Care Act across the state. ?We want to continue our mission of informing people about the Affordable Care Act and present the public factual information about requirements they face with the law as well as discuss potential rate adjustments they may be facing as open enrollment starts in November\,? said Department of Insurance Director Bruce Ramge. The informational sessions will include a brief introduction to the Affordable Care Act and will be followed by general information on: ? Open Enrollment ? Premium Tax Credits ? The Individual Mandate ? Employer-Sponsored Insurance ? The Small Business Health Options Program ? 2015 Premiums For more info\, see: http://www.doi.nebraska.gov/notices/notc2014/NR1404.pdf
LOCATION:Kearney Holiday Inn Hotel & Convention Center\, Stateroom B\, 110 Second Ave
UID:e.1404.5363
SEQUENCE:3
DTSTAMP:20260423T070024Z
URL:https://members.kearneycoc.org/events/details/affordable-care-act-informational-sessions-to-be-held-09-23-2014-5363
END:VEVENT

END:VCALENDAR
