BEGIN:VCALENDAR
VERSION:2.0
PRODID:-//ChamberMaster//Event Calendar 2.0//EN
METHOD:PUBLISH
X-PUBLISHED-TTL:P3D
REFRESH-INTERVAL:P3D
CALSCALE:GREGORIAN
BEGIN:VEVENT
DTSTART:20150314T223000Z
DTEND:20150315T030000Z
X-MICROSOFT-CDO-ALLDAYEVENT:FALSE
SUMMARY:Ag Appreciation Night with the Tri-City Storm!
DESCRIPTION:Kearney Area Chamber of Commerce Ag Committee and the Tri-City Storm bring you the 3rd Annual Ag Appreciation Night. A portion of the proceeds from the tickets sold through the Ag Committee will go to the Ag Committee Scholarship fund. Come help support Ag and future Ag leaders in our community!
X-ALT-DESC;FMTTYPE=text/html:Kearney Area Chamber of Commerce Ag Committee and the Tri-City Storm bring you the 3rd Annual Ag Appreciation Night. A portion of the proceeds from the tickets sold through the Ag Committee will go to the Ag Committee&nbsp\;Scholarship fund. Come help support Ag and future Ag leaders in our community!
LOCATION:Viaero Event Center 609 Platte Road
UID:e.1404.6167
SEQUENCE:3
DTSTAMP:20260422T200255Z
URL:https://members.kearneycoc.org/events/details/ag-appreciation-night-with-the-tri-city-storm-03-14-2015-6167
END:VEVENT

END:VCALENDAR
