BEGIN:VCALENDAR
VERSION:2.0
PRODID:-//ChamberMaster//Event Calendar 2.0//EN
METHOD:PUBLISH
X-PUBLISHED-TTL:P3D
REFRESH-INTERVAL:P3D
CALSCALE:GREGORIAN
BEGIN:VEVENT
DTSTART:20150209T180000Z
DTEND:20150209T190000Z
X-MICROSOFT-CDO-ALLDAYEVENT:FALSE
SUMMARY:Ag Committee Meeting
DESCRIPTION:Agriculture Committee Meeting \n\n\n\nThe Agriculture Committee's purpose is to provide and support programs which promote agriculture and encourage urban/rural cooperation.\n\n\n\nSome of the programs the Agriculture Committee is currently tied to are the Nebraska Cattlemen's Classic\, Gateway Farm Expo\, Buffalo County 4-H\, Nebraska Livestock Judging Classic as well as educational meetings. \n\n\n\nThis committee is open to all Kearney Area Chamber members. To inquire about joining this group\, contact Shanna Schulte at sschulte@kearneycoc.org or join us for one of our meetings.
X-ALT-DESC;FMTTYPE=text/html:Agriculture Committee Meeting&nbsp\;<br />\n<br />\nThe Agriculture Committee&#39\;s purpose is to provide and support programs which promote agriculture and encourage urban/rural cooperation.<br />\n<br />\nSome of the programs the Agriculture Committee is currently tied to are the Nebraska Cattlemen&#39\;s Classic\, Gateway Farm Expo\, Buffalo County 4-H\, Nebraska Livestock Judging Classic as well as educational meetings.&nbsp\;<br />\n<br />\nThis committee is open to all Kearney Area Chamber members. To inquire about joining this group\, contact Shanna Schulte at&nbsp\;<a href="mailto:sschulte@kearneycoc.org">sschulte@kearneycoc.org</a>&nbsp\;or join us for one of our meetings.&nbsp\;
LOCATION:Kearney Area Chamber of Commerce
UID:e.1404.5980
SEQUENCE:3
DTSTAMP:20260422T225643Z
URL:https://members.kearneycoc.org/events/details/ag-committee-meeting-02-09-2015-5980
END:VEVENT

END:VCALENDAR
