BEGIN:VCALENDAR
VERSION:2.0
PRODID:-//ChamberMaster//Event Calendar 2.0//EN
METHOD:PUBLISH
X-PUBLISHED-TTL:P3D
REFRESH-INTERVAL:P3D
CALSCALE:GREGORIAN
BEGIN:VEVENT
DTSTART:20210916T170000Z
DTEND:20210916T180000Z
X-MICROSOFT-CDO-ALLDAYEVENT:FALSE
SUMMARY:Ag Committee Meeting
DESCRIPTION:Chair: Mat Cope\, Big Iron Auctions\n\n\n\nThe Agriculture Committee's purpose is to provide and support programs which promote agriculture and encourage urban/rural cooperation.\n\n\n\nSome of the programs the Agriculture Committee is currently tied to are the Nebraska Cattlemen's Classic\, Gateway Farm Expo\, Buffalo County 4-H\, Nebraska Livestock Judging Classic as well as educational meetings.\n\n\n\nThis committee is open to all Kearney Area Chamber Members. To inquire about joining this group\, contact Amy Cope at acope@kearneycoc.org or join us for one of our meetings.\n\n\n\nOther Partners in our Agriculture Team include Gateway Farm Expo\, Nebraska Cattlemen's Classic and 4-H Auction Committee.
X-ALT-DESC;FMTTYPE=text/html:<span style="font-size:14px\;"><span style="font-family:arial\;">Chair: Mat Cope\, Big Iron Auctions<br />\n<br />\n<span style="color: rgb(34\, 34\, 34)\; line-height: 24px\; background-color: rgb(255\, 255\, 255)\;">The Agriculture Committee&#39\;s purpose is to provide and support programs which promote agriculture and encourage urban/rural cooperation.</span><br style="color: rgb(34\, 34\, 34)\; font-family: HelveticaNeueW01-55Roma\; font-size: 18px\; background-color: rgb(255\, 255\, 255)\;" />\n<br style="color: rgb(34\, 34\, 34)\; font-family: HelveticaNeueW01-55Roma\; font-size: 18px\; background-color: rgb(255\, 255\, 255)\;" />\n<span style="color: rgb(34\, 34\, 34)\; line-height: 24px\; background-color: rgb(255\, 255\, 255)\;">Some of the programs the Agriculture Committee is currently tied to are the Nebraska Cattlemen&#39\;s Classic\, Gateway Farm Expo\, Buffalo County 4-H\, Nebraska Livestock Judging Classic as well as educational meetings.</span><br style="color: rgb(34\, 34\, 34)\; font-family: HelveticaNeueW01-55Roma\; font-size: 18px\; background-color: rgb(255\, 255\, 255)\;" />\n<br style="color: rgb(34\, 34\, 34)\; font-family: HelveticaNeueW01-55Roma\; font-size: 18px\; background-color: rgb(255\, 255\, 255)\;" />\n<span style="color: rgb(34\, 34\, 34)\; line-height: 24px\; background-color: rgb(255\, 255\, 255)\;">This committee is open to all Kearney Area Chamber Members. To inquire about joining this group\, contact Amy Cope at <a href="mailto:acope@kearneycoc.org">acope@kearneycoc.org</a>&nbsp\;</span><span style="color: rgb(34\, 34\, 34)\; line-height: 24px\; background-color: rgb(255\, 255\, 255)\;">or join us for one of our meetings.</span><br style="color: rgb(34\, 34\, 34)\; font-family: HelveticaNeueW01-55Roma\; font-size: 18px\; background-color: rgb(255\, 255\, 255)\;" />\n<br style="color: rgb(34\, 34\, 34)\; font-family: HelveticaNeueW01-55Roma\; font-size: 18px\; background-color: rgb(255\, 255\, 255)\;" />\n<span style="color: rgb(34\, 34\, 34)\; line-height: 24px\; background-color: rgb(255\, 255\, 255)\;">Other Partners in our Agriculture Team include Gateway Farm Expo\, Nebraska Cattlemen&#39\;s Classic and 4-H Auction Committee.</span></span></span>
LOCATION:Chamber of Commerce Meeting Room 1007 2nd Ave.
UID:e.1404.7292
SEQUENCE:3
DTSTAMP:20260424T004021Z
URL:https://members.kearneycoc.org/events/details/ag-committee-meeting-09-16-2021-7292
END:VEVENT

END:VCALENDAR
