BEGIN:VCALENDAR
VERSION:2.0
PRODID:-//ChamberMaster//Event Calendar 2.0//EN
METHOD:PUBLISH
X-PUBLISHED-TTL:P3D
REFRESH-INTERVAL:P3D
CALSCALE:GREGORIAN
BEGIN:VEVENT
DTSTART:20120710T220000Z
DTEND:20120711T010000Z
X-MICROSOFT-CDO-ALLDAYEVENT:FALSE
SUMMARY:Ag Committee Summer Social
DESCRIPTION:Tuesday\, July 10  \n\n	5:00 p.m. - 8:00 p.m. \n\n	Extension Building\n\n	 $10.00 - pay at door or request to be billed \n\n	Please RSVP to Leslie by Tuesday\, July 3rd \n\n	lmeans@kearneycoc.org or (308) 237-4671 \n\n	 \n\n	Enjoy steaks\, cold drinks and hospitality.  Steve Knuth of AgWest Commodities will be the featured speaker.
X-ALT-DESC;FMTTYPE=text/html:<p align="center" style="TEXT-ALIGN: center\; MARGIN-TOP: 0px\; MARGIN-BOTTOM: 0px\; COLOR: rgb(0\,0\,0)\; FONT-SIZE: 12pt">\n	<span style="FONT-SIZE: 14pt">Tuesday\, July 10&nbsp\;&nbsp\;</span></p>\n<div align="center" style="TEXT-ALIGN: center">\n	<span style="FONT-SIZE: 14pt">5:00 p.m. - 8:00 p.m.&nbsp\;</span></div>\n<div align="center" style="TEXT-ALIGN: center">\n	<span style="FONT-SIZE: 14pt">Extension Building</span></div>\n<p align="center" style="TEXT-ALIGN: center\; MARGIN-TOP: 0px\; MARGIN-BOTTOM: 0px\; COLOR: rgb(0\,0\,0)\; FONT-SIZE: 12pt">\n	&nbsp\;<span style="FONT-SIZE: 14pt">$10.00 - pay at door or request to be billed&nbsp\;</span></p>\n<p align="center" style="TEXT-ALIGN: center\; MARGIN-TOP: 0px\; MARGIN-BOTTOM: 0px\; COLOR: rgb(0\,0\,0)\; FONT-SIZE: 12pt">\n	<span style="FONT-SIZE: 14pt">Please RSVP to Leslie by Tuesday\, July 3rd&nbsp\;</span></p>\n<p align="center" style="TEXT-ALIGN: center\; MARGIN-TOP: 0px\; MARGIN-BOTTOM: 0px\; COLOR: rgb(0\,0\,0)\; FONT-SIZE: 12pt">\n	<span style="FONT-SIZE: 14pt">lmeans@kearneycoc.org or (308) 237-4671&nbsp\;</span></p>\n<p align="center" style="TEXT-ALIGN: center\; MARGIN-TOP: 0px\; MARGIN-BOTTOM: 0px\; COLOR: rgb(0\,0\,0)\; FONT-SIZE: 12pt">\n	<span>&nbsp\;</span></p>\n<p align="center" style="TEXT-ALIGN: center\; MARGIN-TOP: 0px\; MARGIN-BOTTOM: 0px\; COLOR: rgb(0\,0\,0)\; FONT-SIZE: 12pt">\n	<span>Enjoy steaks\, cold drinks and hospitality.&nbsp\; Steve Knuth of AgWest Commodities will be the featured speaker.</span></p>\n
LOCATION:
UID:e.1404.1934
SEQUENCE:3
DTSTAMP:20260425T033100Z
URL:https://members.kearneycoc.org/events/details/ag-committee-summer-social-07-10-2012-1934
END:VEVENT

END:VCALENDAR
