BEGIN:VCALENDAR
VERSION:2.0
PRODID:-//ChamberMaster//Event Calendar 2.0//EN
METHOD:PUBLISH
X-PUBLISHED-TTL:P3D
REFRESH-INTERVAL:P3D
CALSCALE:GREGORIAN
BEGIN:VEVENT
DTSTART:20150602T200000Z
DTEND:20150602T223000Z
X-MICROSOFT-CDO-ALLDAYEVENT:FALSE
SUMMARY:Agriculture Committee Tour of Monsanto
DESCRIPTION:The Agriculture Committee's purpose is to provide and support programs which promote agriculture and encourage urban/rural cooperation.\n\nSome of the programs the Agriculture Committee is currently tied to are the Nebraska Cattlemen's Classic\, Gateway Farm Expo\, Buffalo County 4-H\, Nebraska Livestock Judging Classic as well as educational meetings.
X-ALT-DESC;FMTTYPE=text/html:<span style="font-size:12px\;"><span style="font-family:arial\;"><span style="color: rgb(34\, 34\, 34)\; line-height: 24px\; background-color: rgb(255\, 255\, 255)\;">The Agriculture Committee&#39\;s purpose is to provide and support programs which promote agriculture and encourage urban/rural cooperation.</span><br style="color: rgb(34\, 34\, 34)\; font-family: HelveticaNeueW01-55Roma\; font-size: 18px\; background-color: rgb(255\, 255\, 255)\;" />\n<span style="color: rgb(34\, 34\, 34)\; line-height: 24px\; background-color: rgb(255\, 255\, 255)\;">Some of the programs the Agriculture Committee is currently tied to are the Nebraska Cattlemen&#39\;s Classic\, Gateway Farm Expo\, Buffalo County 4-H\, Nebraska Livestock Judging Classic as well as educational meetings.</span></span></span><br />\n&nbsp\;
LOCATION:Tour of: Monsanto Seeds 2615 Antelope Ave Kearney NE 68847 Drinks following the tour: Sozo American Cuisine 110 S. 2nd Ave Kearney NE 68847
UID:e.1404.6260
SEQUENCE:3
DTSTAMP:20260422T152824Z
URL:https://members.kearneycoc.org/events/details/agriculture-committee-tour-of-monsanto-06-02-2015-6260
END:VEVENT

END:VCALENDAR
