BEGIN:VCALENDAR
VERSION:2.0
PRODID:-//ChamberMaster//Event Calendar 2.0//EN
METHOD:PUBLISH
X-PUBLISHED-TTL:P3D
REFRESH-INTERVAL:P3D
CALSCALE:GREGORIAN
BEGIN:VEVENT
DTSTART:20130424T000000Z
DTEND:20130424T020000Z
X-MICROSOFT-CDO-ALLDAYEVENT:FALSE
SUMMARY:"Ain't ' Misbehavin"
DESCRIPTION:The original Broadway musical with 30 show-stopping numbers!
X-ALT-DESC;FMTTYPE=text/html:The original Broadway musical with 30 show-stopping numbers!
LOCATION:Merryman Performing Arts Center 225 W. 22nd St.\, Kearney NE 68845
UID:e.1404.1955
SEQUENCE:3
DTSTAMP:20260424T140130Z
URL:https://members.kearneycoc.org/events/details/ain-t-misbehavin-04-23-2013-1955
END:VEVENT

END:VCALENDAR
