BEGIN:VCALENDAR
VERSION:2.0
PRODID:-//ChamberMaster//Event Calendar 2.0//EN
METHOD:PUBLISH
X-PUBLISHED-TTL:P3D
REFRESH-INTERVAL:P3D
CALSCALE:GREGORIAN
BEGIN:VEVENT
DTSTART:20150929T170000Z
DTEND:20150929T180000Z
X-MICROSOFT-CDO-ALLDAYEVENT:FALSE
SUMMARY:Air Transportation Committee
DESCRIPTION:Air Transportation Committee Meeting
X-ALT-DESC;FMTTYPE=text/html:Air Transportation Committee Meeting
LOCATION:Chamber of Commerce Board Room 1007 2nd Avenue
UID:e.1404.7000
SEQUENCE:3
DTSTAMP:20260422T101509Z
URL:https://members.kearneycoc.org/events/details/air-transportation-committee-09-29-2015-7000
END:VEVENT

END:VCALENDAR
