BEGIN:VCALENDAR
VERSION:2.0
PRODID:-//ChamberMaster//Event Calendar 2.0//EN
METHOD:PUBLISH
X-PUBLISHED-TTL:P3D
REFRESH-INTERVAL:P3D
CALSCALE:GREGORIAN
BEGIN:VEVENT
DTSTART:20260325T190000Z
DTEND:20260325T194500Z
X-MICROSOFT-CDO-ALLDAYEVENT:FALSE
SUMMARY:ALLO Presents: Maximizing Value with AI
DESCRIPTION:Join ALLO Business for a practical webinar on how leaders can start using AI today to improve efficiency\, decision-making\, and customer experience without the hype.\n\n    When is this? Wednesday\, March 25th 2-2:45 central/1-1:45 mountain \n\n    Where is this? Online! Scan the QR code to register for the webinar.\n\n    Why should I attend? AI is everywhere\, and that's kind of the problem. Every platform promises to transform your business\, but nobody's explaining what's actually worth your time and budget. This webinar cuts through the noise with practical\, no-fluff strategies you can use right now. And it's coming from ALLO   your local tech partner who already handles your connectivity\, and yes\, also your cybersecurity\, IT\, and managed services. We know your world\, and we're here to make tech work for you\, not confuse you.
X-ALT-DESC;FMTTYPE=text/html:<div>Join ALLO Business for a practical webinar on how leaders can start using AI today to improve efficiency\, decision-making\, and customer experience without the hype.</div>\n\n<div>&ensp\;&ensp\;&ensp\;&ensp\;<strong>When is this?&nbsp\;</strong>Wednesday\, March 25<sup>th</sup>&nbsp\;2-2:45 central/1-1:45 mountain&nbsp\;</div>\n\n<div>&ensp\;&ensp\;&ensp\;<strong>&ensp\;Where is this?</strong>&nbsp\;Online! Scan the QR code to register for the webinar.</div>\n\n<div>&ensp\;&ensp\;&ensp\;&ensp\;<strong>Why should I attend?</strong>&nbsp\;AI is everywhere\, and that&#39\;s kind of the problem. Every platform promises to transform your business\, but nobody&#39\;s explaining what&#39\;s actually worth your time and budget. This webinar cuts through the noise with practical\, no-fluff strategies you can use right now. And it&#39\;s coming from ALLO &mdash\; your local tech partner who already handles your connectivity\, and yes\, also your cybersecurity\, IT\, and managed services. We know your world\, and we&#39\;re here to make tech work for you\, not confuse you.</div>\n
LOCATION:Webinar/ZOOM
UID:e.1404.26253
SEQUENCE:3
DTSTAMP:20260426T043341Z
URL:https://members.kearneycoc.org/events/details/allo-presents-maximizing-value-with-ai-26253
END:VEVENT

END:VCALENDAR
