BEGIN:VCALENDAR
VERSION:2.0
PRODID:-//ChamberMaster//Event Calendar 2.0//EN
METHOD:PUBLISH
X-PUBLISHED-TTL:P3D
REFRESH-INTERVAL:P3D
CALSCALE:GREGORIAN
BEGIN:VEVENT
DTSTART:20150307T154500Z
DTEND:20150307T180000Z
X-MICROSOFT-CDO-ALLDAYEVENT:FALSE
SUMMARY:AmaXIng Challenge: Step It Up for Autism Speaks
DESCRIPTION:AmaXIng Challenge: Step It Up is a 5K walk/run hosted by the Delta Gamma chapter of Alpha Xi Delta. Autism Speaks is the nation?s leading autism advocacy organization and Alpha Xi Delta?s national philanthropy partner. There will also be a booth for parents to receive information about autism. Prizes will be awarded for: Most Creative and Fun BLUE Outfits Loudest and Most Enthusiastic 1st Place Man & 1st Place Woman Overall 2nd Place and 3rd Place Largest Team to Sign Up Together Raffle Winners (Tickets available for purchase at event) Prizes Include: Two FitBits\, Two Anytime Fitness 2 Months Free Membership + Free Training Sessions\, Free Movie Tickets\, and MANY MORE Including a silent auction Prize of 2 Tickets to the 2015 COLLEGE WORLD SERIES!!!!! FREE snacks from Panera will be available to all runners!
X-ALT-DESC;FMTTYPE=text/html:AmaXIng Challenge: Step It Up is a 5K walk/run hosted by the Delta Gamma chapter of Alpha Xi Delta. Autism Speaks is the nation?s leading autism advocacy organization and Alpha Xi Delta?s national philanthropy partner. There will also be a booth for parents to receive information about autism. Prizes will be awarded for: Most Creative and Fun BLUE Outfits Loudest and Most Enthusiastic 1st Place Man &amp\; 1st Place Woman Overall 2nd Place and 3rd Place Largest Team to Sign Up Together Raffle Winners (Tickets available for purchase at event) Prizes Include: Two FitBits\, Two Anytime Fitness 2 Months Free Membership + Free Training Sessions\, Free Movie Tickets\, and MANY MORE Including a silent auction Prize of 2 Tickets to the 2015 COLLEGE WORLD SERIES!!!!! FREE snacks from Panera will be available to all runners!
LOCATION:Kearney Archway\, 3060 E. 1st Street
UID:e.1404.6013
SEQUENCE:3
DTSTAMP:20260422T212256Z
URL:https://members.kearneycoc.org/events/details/amaxing-challenge-step-it-up-for-autism-speaks-03-07-2015-6013
END:VEVENT

END:VCALENDAR
