BEGIN:VCALENDAR
VERSION:2.0
PRODID:-//ChamberMaster//Event Calendar 2.0//EN
METHOD:PUBLISH
X-PUBLISHED-TTL:P3D
REFRESH-INTERVAL:P3D
CALSCALE:GREGORIAN
BEGIN:VEVENT
DTSTART:20190608T003000Z
DTEND:20190608T023000Z
X-MICROSOFT-CDO-ALLDAYEVENT:FALSE
SUMMARY:Amazing Grace
DESCRIPTION:The late director Sydney Pollack's behind-the-scenes documentary about the recording of Aretha Franklin's best-selling album Amazing Grace finally sees the light of day more than four decades after the original footage was shot.
X-ALT-DESC;FMTTYPE=text/html:The late director Sydney Pollack&#39\;s behind-the-scenes documentary about the recording of Aretha Franklin&#39\;s best-selling album Amazing Grace finally sees the light of day more than four decades after the original footage was shot.
LOCATION:The World Theatre 2318 Central Avenue Kearney NE 68847
UID:e.1404.16523
SEQUENCE:3
DTSTAMP:20260425T230809Z
URL:https://members.kearneycoc.org/events/details/amazing-grace-16523
END:VEVENT

END:VCALENDAR
