BEGIN:VCALENDAR
VERSION:2.0
PRODID:-//ChamberMaster//Event Calendar 2.0//EN
METHOD:PUBLISH
X-PUBLISHED-TTL:P3D
REFRESH-INTERVAL:P3D
CALSCALE:GREGORIAN
BEGIN:VEVENT
DTSTART:20191109T010000Z
DTEND:20191109T033000Z
X-MICROSOFT-CDO-ALLDAYEVENT:FALSE
SUMMARY:American POP!
DESCRIPTION:Featuring original 60's bands -The Box Tops and The Buckingham's.
X-ALT-DESC;FMTTYPE=text/html:Featuring original 60&rsquo\;s bands -The Box Tops and The Buckingham&rsquo\;s.
LOCATION:Merryman Performing Arts Center 225 West 22nd Street
UID:e.1404.16579
SEQUENCE:3
DTSTAMP:20260425T145804Z
URL:https://members.kearneycoc.org/events/details/american-pop-16579
END:VEVENT

END:VCALENDAR
