BEGIN:VCALENDAR
VERSION:2.0
PRODID:-//ChamberMaster//Event Calendar 2.0//EN
METHOD:PUBLISH
X-PUBLISHED-TTL:P3D
REFRESH-INTERVAL:P3D
CALSCALE:GREGORIAN
BEGIN:VEVENT
DTSTART:20191003T223000Z
DTEND:20191004T000000Z
X-MICROSOFT-CDO-ALLDAYEVENT:FALSE
SUMMARY:American Red Cross Open House
DESCRIPTION:Get to Know your Red Cross\n\nThe American Red Cross does more than respond to major disasters and collect blood. Learn more about YOUR Red Cross and how you can get involved.
X-ALT-DESC;FMTTYPE=text/html:Get to Know your Red Cross<br />\nThe American Red Cross does more than respond to major disasters and collect blood. Learn more about YOUR Red Cross and how you can get involved.
LOCATION:520 W. 48th Street Kearney\, NE 68845
UID:e.1404.17895
SEQUENCE:3
DTSTAMP:20260425T163959Z
URL:https://members.kearneycoc.org/events/details/american-red-cross-open-house-17895
END:VEVENT

END:VCALENDAR
