BEGIN:VCALENDAR
VERSION:2.0
PRODID:-//ChamberMaster//Event Calendar 2.0//EN
METHOD:PUBLISH
X-PUBLISHED-TTL:P3D
REFRESH-INTERVAL:P3D
CALSCALE:GREGORIAN
BEGIN:VEVENT
DTSTART:20210916T170000Z
DTEND:20210916T173000Z
X-MICROSOFT-CDO-ALLDAYEVENT:FALSE
SUMMARY:American Red Cross Virtual Volunteer Fair
DESCRIPTION:This monthly Volunteer Virtual Fair via Zoom is open to all and a great opportunity to learn about our organization\, our mission and our volunteer opportunities and the many ways to engage with the American Red Cross Nebraska-Iowa Region. This fair is presented every third Thursday of the month at 12pm noon. For question contact NEIAVolunteer@redcross.org
X-ALT-DESC;FMTTYPE=text/html:This monthly Volunteer Virtual Fair via Zoom is open to all and a great opportunity to learn about our organization\, our mission and our volunteer opportunities and the many ways to engage with the American Red Cross Nebraska-Iowa Region. This fair is presented every third Thursday of the month at 12pm noon. For question contact NEIAVolunteer@redcross.org
LOCATION:Virtual Use this link to join any session. https://us02web.zoom.us/j/86181082024
UID:e.1404.19391
SEQUENCE:3
DTSTAMP:20260424T004022Z
URL:https://members.kearneycoc.org/events/details/american-red-cross-virtual-volunteer-fair-19391
END:VEVENT

END:VCALENDAR
