BEGIN:VCALENDAR
VERSION:2.0
PRODID:-//ChamberMaster//Event Calendar 2.0//EN
METHOD:PUBLISH
X-PUBLISHED-TTL:P3D
REFRESH-INTERVAL:P3D
CALSCALE:GREGORIAN
BEGIN:VEVENT
DTSTART:20130721T030000Z
DTEND:20130721T030000Z
X-MICROSOFT-CDO-ALLDAYEVENT:FALSE
SUMMARY:American Red Neck Comedy
DESCRIPTION:American Redneck Comedy\n\n	VFW Club Fundraiser \n\n	Stand up Comedy Show\n\n	Celebrity Impersonators:\n\n	Las Vegas Pee Wee & Las Vegas Larry
X-ALT-DESC;FMTTYPE=text/html:<p>\n	American Redneck Comedy<br />\n	VFW Club Fundraiser&nbsp\;<br />\n	Stand up Comedy Show<br />\n	Celebrity Impersonators:</p>\n<p>\n	Las Vegas Pee Wee &amp\; Las Vegas Larry</p>\n
LOCATION:Kearney VFW 2215 1st Ave
UID:e.1404.3258
SEQUENCE:3
DTSTAMP:20260424T060758Z
URL:https://members.kearneycoc.org/events/details/american-red-neck-comedy-07-20-2013-3258
END:VEVENT

END:VCALENDAR
