BEGIN:VCALENDAR
VERSION:2.0
PRODID:-//ChamberMaster//Event Calendar 2.0//EN
METHOD:PUBLISH
X-PUBLISHED-TTL:P3D
REFRESH-INTERVAL:P3D
CALSCALE:GREGORIAN
BEGIN:VEVENT
DTSTART:20141116T013000Z
DTEND:20141116T033000Z
X-MICROSOFT-CDO-ALLDAYEVENT:FALSE
SUMMARY:Amit Peled-Kearney Concert Association
DESCRIPTION:From the United States to Europe to the Middle East and Asia\, Israeli cellist Amit Peled is a musician of profound artistry and charismatic stage presence.  He is acclaimed as one of the most exciting instrumentalists on the concert stage today.  Amit is a strong advocate of breaking boundaries between performers and the public and trying to promote and share classical music with wider audiences.
X-ALT-DESC;FMTTYPE=text/html:From the United States to Europe to the Middle East and Asia\, Israeli cellist Amit Peled is a musician of profound artistry and charismatic stage presence. &nbsp\;He is acclaimed as one of the most exciting instrumentalists on the concert stage today. &nbsp\;Amit is a strong advocate of breaking boundaries between performers and the public and trying to promote and share classical music with wider audiences.
LOCATION:Merryman Performing Arts Center
UID:e.1404.5341
SEQUENCE:3
DTSTAMP:20260423T034806Z
URL:https://members.kearneycoc.org/events/details/amit-peled-kearney-concert-association-11-15-2014-5341
END:VEVENT

END:VCALENDAR
