BEGIN:VCALENDAR
VERSION:2.0
PRODID:-//ChamberMaster//Event Calendar 2.0//EN
METHOD:PUBLISH
X-PUBLISHED-TTL:P3D
REFRESH-INTERVAL:P3D
CALSCALE:GREGORIAN
BEGIN:VEVENT
DTSTART:20130129T230000Z
DTEND:20130130T030000Z
X-MICROSOFT-CDO-ALLDAYEVENT:FALSE
SUMMARY:Annual Meeting
DESCRIPTION:Join us for the 94th Annual Meeting.
X-ALT-DESC;FMTTYPE=text/html:Join us for the 94th Annual Meeting.
LOCATION:Younes Conference Center 416 Talmadge Rd Kearney\, NE 68845
UID:e.1404.2197
SEQUENCE:3
DTSTAMP:20260424T191142Z
URL:https://members.kearneycoc.org/events/details/annual-meeting-01-29-2013-2197
END:VEVENT

END:VCALENDAR
