BEGIN:VCALENDAR
VERSION:2.0
PRODID:-//ChamberMaster//Event Calendar 2.0//EN
METHOD:PUBLISH
X-PUBLISHED-TTL:P3D
REFRESH-INTERVAL:P3D
CALSCALE:GREGORIAN
BEGIN:VEVENT
DTSTART:20210414T123000Z
DTEND:20210414T133000Z
X-MICROSOFT-CDO-ALLDAYEVENT:FALSE
SUMMARY:April Community Connections
DESCRIPTION:Join Chamber members for a roundtable discussion with elected officials from Kearney City Council\, Buffalo County Commissioners\, and the Kearney Public School Board. Community Connections is sponsored by Northwestern Energy.
X-ALT-DESC;FMTTYPE=text/html:Join Chamber members for a roundtable discussion with elected officials from Kearney City Council\, Buffalo County Commissioners\, and the Kearney Public School Board. Community Connections is sponsored by <strong>Northwestern Energy</strong>.&nbsp\;
LOCATION:Kearney Area Chamber of Commerce Board Room or view it Live on our Facebook page. If you need to attend via Zoom\, below is the link and information. Join Zoom Meeting https://zoom.us/j/97894059332?pwd=R2lhYjF4UkJpcCt2V3czMjl6QzhtZz09 Meeting ID: 978 9405 9332 Passcode: 706592
UID:e.1404.122
SEQUENCE:3
DTSTAMP:20260424T102955Z
URL:https://members.kearneycoc.org/events/details/april-community-connections-122
END:VEVENT

END:VCALENDAR
